BEGIN:VCALENDAR
VERSION:2.0
PRODID:-//ChamberMaster//Event Calendar 2.0//EN
METHOD:PUBLISH
X-PUBLISHED-TTL:P3D
REFRESH-INTERVAL:P3D
CALSCALE:GREGORIAN
BEGIN:VEVENT
DTSTART:20180728T000000Z
DTEND:20180728T023000Z
X-MICROSOFT-CDO-ALLDAYEVENT:FALSE
SUMMARY:Slambovian Circus of Dreams
DESCRIPTION:Formed in Sleepy Hollow\, New York over a decade ago\, The Slambovian Circus of Dreams (AKA The Grand Slambovians) pioneered the alt-folk/americana genre\, staying on the fringes of the music industry and under the radar while producing several critically acclaimed studio albums.
X-ALT-DESC;FMTTYPE=text/html:Formed in Sleepy Hollow\, New York over a decade ago\, The Slambovian Circus of Dreams (AKA The Grand Slambovians) pioneered the alt-folk/americana genre\, staying on the fringes of the music industry and under the radar while producing several critically acclaimed studio albums.
LOCATION:Vinegar Hill Music Theatre 53 Old Post Rd. Arundel\, ME 04046
UID:e.1923.9847
SEQUENCE:3
DTSTAMP:20260425T132943Z
URL:https://chamber.gokennebunks.com/events/details/slambovian-circus-of-dreams-9847
END:VEVENT

END:VCALENDAR
