BEGIN:VCALENDAR
VERSION:2.0
PRODID:-//ChamberMaster//Event Calendar 2.0//EN
METHOD:PUBLISH
X-PUBLISHED-TTL:P3D
REFRESH-INTERVAL:P3D
CALSCALE:GREGORIAN
BEGIN:VEVENT
DTSTART:20180629T220000Z
DTEND:20180630T020000Z
X-MICROSOFT-CDO-ALLDAYEVENT:FALSE
SUMMARY:Siren's Soiree
DESCRIPTION:Festive event featuring old vehicles\, drinks\, hors d'ourves \, music\, historical displays\, live and silent auctions
X-ALT-DESC;FMTTYPE=text/html:Festive event featuring old vehicles\, drinks\, hors d&#39\;ourves \, music\, historical displays\, live and silent auctions
LOCATION:Bentley's Car Museum- Old Rt. 1 A- Arundel
UID:e.1923.6997
SEQUENCE:3
DTSTAMP:20260425T143124Z
URL:https://chamber.gokennebunks.com/events/details/siren-s-soiree-6997
END:VEVENT

END:VCALENDAR
