BEGIN:VCALENDAR
VERSION:2.0
PRODID:-//ChamberMaster//Event Calendar 2.0//EN
METHOD:PUBLISH
X-PUBLISHED-TTL:P3D
REFRESH-INTERVAL:P3D
CALSCALE:GREGORIAN
BEGIN:VEVENT
DTSTART:20180907T220000Z
DTEND:20180908T010000Z
X-MICROSOFT-CDO-ALLDAYEVENT:FALSE
SUMMARY:SIP & Sniff! Girls & Moms Night Out!
DESCRIPTION:Make a free essential oil roller to take home. Enjoy wine\, essential oil infused beverages and snacks. Learn about essential oils and what they can do for you while you sip and sniff away. Open house style just drop by when you can.
X-ALT-DESC;FMTTYPE=text/html:Make a free essential oil roller to take home. Enjoy wine\, essential oil infused beverages and snacks. Learn about essential oils and what they can do for you while you sip and sniff away. Open house style just drop by when you can.
LOCATION:The Chamber at 16 Water St. Kennebunk
UID:e.1923.11466
SEQUENCE:3
DTSTAMP:20260425T104136Z
URL:https://chamber.gokennebunks.com/events/details/sip-sniff-girls-moms-night-out-11466
END:VEVENT

END:VCALENDAR
