BEGIN:VCALENDAR
VERSION:2.0
PRODID:-//ChamberMaster//Event Calendar 2.0//EN
METHOD:PUBLISH
X-PUBLISHED-TTL:P3D
REFRESH-INTERVAL:P3D
CALSCALE:GREGORIAN
BEGIN:VEVENT
DTSTART:20180529T223000Z
DTEND:20180530T000000Z
X-MICROSOFT-CDO-ALLDAYEVENT:FALSE
SUMMARY:Simplifying Kids' Artwork 3-Week Workshop Series
DESCRIPTION:The school year will be wrapping up soon and the backpacks will be coming home filled with treasures. While it's exciting to see what's been created throughout the year\, it's also overwhelming to figure out what to do with everything!\n\n \n\nIf you are ready to organize the piles\, simplify your collection and turn it all into something you can actually enjoy\, join Professional Organizer and Life Coach\, Lisa Luken for this 3-week hands-on workshop series!  \n\n \n\nYou will create a plan\, get ideas\, make decisions and sort your piles over the course of the three-week workshop series.  \n\n \n\nWeek 1   Get Started!\n\n	Take the first step by simply showing up ready to get organized.\n	Commit to FINALLY taking action on this project.\n	Decide what a simplified collection looks like for you with tips and ideas from Lisa.\n	Set intentions\, outline steps and create a plan to achieve them.\n\n \n\nWeek 2   Dig In!\n\n\n	Bring your pile to class! \n	Learn how to decide what to keep and what to let go of.\n	Spend time sorting and making decisions about each item with Lisa's guidance.\n\n \n\nWeek 3   Enjoy!\n\n\n	Explore ways to preserve your collection and turn it into something fun and enjoyable that you can share with others.\n	Establish a process to maintain and organized & simplified collection as new items arrive.\n\n \n\nThroughout the Workshop Series:\n\n\n	Enjoy gathering with others who are in the same boat.\n	Receive motivation and accountability to actually do the work!\n	Receive tips\, ideas and resources plus coaching from Lisa\n	Choose to do the optional "homework" between class \n\n \n\nCome join us for this fun workshop series to simplify your child's artwork!
X-ALT-DESC;FMTTYPE=text/html:<span style="color:#262626"><span style="font-family:raleway\,sans-serif"><span style="font-size:14.0pt">The school year will be wrapping up soon and the backpacks will be coming home filled with treasures. While it&rsquo\;s exciting to see what&rsquo\;s been created throughout the year\, it&rsquo\;s also overwhelming to figure out what to do with everything!</span></span></span><br />\n&nbsp\;<br />\n<span style="color:#262626"><span style="font-family:raleway\,sans-serif"><span style="font-size:14.0pt">If you are ready to organize the piles\, simplify your collection and turn it all into something you can actually enjoy\, join Professional Organizer and Life Coach\, Lisa Luken for this 3-week hands-on workshop series!&nbsp\; </span></span></span><br />\n&nbsp\;<br />\n<span style="color:#262626"><span style="font-family:raleway\,sans-serif"><span style="font-size:14.0pt">You will create a plan\, get ideas\, make decisions and sort your piles over the course of the three-week workshop series.&nbsp\; </span></span></span><br />\n&nbsp\;<br />\n<strong><span style="color:#262626"><span style="font-family:raleway\,sans-serif"><span style="font-size:14.0pt">Week 1 &ndash\; Get Started!</span></span></span></strong>\n<ul>\n	<li><span style="color:#262626"><span style="font-family:raleway\,sans-serif"><span style="font-size:14.0pt">Take the first step by simply showing up ready to get organized.</span></span></span></li>\n	<li><span style="color:#262626"><span style="font-family:raleway\,sans-serif"><span style="font-size:14.0pt">Commit to FINALLY taking action on this project.</span></span></span></li>\n	<li><span style="color:#262626"><span style="font-family:raleway\,sans-serif"><span style="font-size:14.0pt">Decide what a simplified collection looks like for you with tips and ideas from Lisa.</span></span></span></li>\n	<li><span style="color:#262626"><span style="font-family:raleway\,sans-serif"><span style="font-size:14.0pt">Set intentions\, outline steps and create a plan to achieve them.</span></span></span></li>\n</ul>\n&nbsp\;<br />\n<strong><span style="color:#262626"><span style="font-family:raleway\,sans-serif"><span style="font-size:14.0pt">Week 2 &ndash\; Dig In!</span></span></span></strong>\n\n<ul>\n	<li><span style="color:#262626"><span style="font-family:raleway\,sans-serif"><span style="font-size:14.0pt">Bring your pile to class! </span></span></span></li>\n	<li><span style="color:#262626"><span style="font-family:raleway\,sans-serif"><span style="font-size:14.0pt">Learn how to decide what to keep and what to let go of.</span></span></span></li>\n	<li><span style="color:#262626"><span style="font-family:raleway\,sans-serif"><span style="font-size:14.0pt">Spend time sorting and making decisions about each item with Lisa&rsquo\;s guidance.</span></span></span></li>\n</ul>\n&nbsp\;<br />\n<strong><span style="color:#262626"><span style="font-family:raleway\,sans-serif"><span style="font-size:14.0pt">Week 3 &ndash\; Enjoy!</span></span></span></strong>\n\n<ul>\n	<li><span style="color:#262626"><span style="font-family:raleway\,sans-serif"><span style="font-size:14.0pt">Explore ways to preserve your collection and turn it into something fun and enjoyable that you can share with others.</span></span></span></li>\n	<li><span style="color:#262626"><span style="font-family:raleway\,sans-serif"><span style="font-size:14.0pt">Establish a process to maintain and organized &amp\; simplified collection as new items arrive.</span></span></span></li>\n</ul>\n&nbsp\;<br />\n<strong><span style="color:#262626"><span style="font-family:raleway\,sans-serif"><span style="font-size:14.0pt">Throughout the Workshop Series:</span></span></span></strong>\n\n<ul>\n	<li><span style="color:#262626"><span style="font-family:raleway\,sans-serif"><span style="font-size:14.0pt">Enjoy gathering with others who are in the same boat.</span></span></span></li>\n	<li><span style="color:#262626"><span style="font-family:raleway\,sans-serif"><span style="font-size:14.0pt">Receive motivation and accountability to actually do the work!</span></span></span></li>\n	<li><span style="color:#262626"><span style="font-family:raleway\,sans-serif"><span style="font-size:14.0pt">Receive tips\, ideas and resources plus coaching from Lisa</span></span></span></li>\n	<li><span style="color:#262626"><span style="font-family:raleway\,sans-serif"><span style="font-size:14.0pt">Choose to do the optional &ldquo\;homework&rdquo\; between class </span></span></span></li>\n</ul>\n&nbsp\;<br />\n<span style="color:#262626"><span style="font-family:raleway\,sans-serif"><span style="font-size:14.0pt">Come join us for this fun workshop series to simplify your child&#39\;s artwork! </span></span></span><br />\n&nbsp\;<br />\n<br />\n&nbsp\;
LOCATION:River Tree Arts 35 Western Ave. Kennebunk\, ME 04043
UID:e.1923.9771
SEQUENCE:3
DTSTAMP:20260425T154911Z
URL:https://chamber.gokennebunks.com/events/details/simplifying-kids-artwork-3-week-workshop-series-9771
END:VEVENT

END:VCALENDAR
