BEGIN:VCALENDAR
VERSION:2.0
PRODID:-//ChamberMaster//Event Calendar 2.0//EN
METHOD:PUBLISH
X-PUBLISHED-TTL:P3D
REFRESH-INTERVAL:P3D
CALSCALE:GREGORIAN
BEGIN:VEVENT
DTSTART:20180515T220000Z
DTEND:20180516T000000Z
X-MICROSOFT-CDO-ALLDAYEVENT:FALSE
SUMMARY:Simplify Your Summer - Life Simplifying Workshop
DESCRIPTION:Summer is just around the corner! If you're excited but wishing this summer could be different-simpler and less hectic\, then you'll want to join Simple Living Coach & Consultant\, Lisa Luken for this workshop. A slower\, more intentional summer is possible if you really want it.\n\nCome prepared to dig in and find clarity on what a simpler summer looks like for YOU and your family. Lisa will share simple living principles and tips to simplify your summer activities then you'll decide exactly what you want and you'll create a plan to achieve it. We'll add in some accountability steps to keep you on track and you'll walk away ready to make this summer SIMPLE!\n\nJoin us at 6:00pm for light refreshments and to browse the unique Maine-made items at our beautiful host location-FOUND. We'll begin our program promptly at 6:30pm.
X-ALT-DESC;FMTTYPE=text/html:<p>Summer is just around the corner! If you&rsquo\;re excited but wishing this summer could be different-simpler and less hectic\, then you&rsquo\;ll want to join Simple Living Coach &amp\; Consultant\, Lisa Luken for this workshop. A slower\, more intentional summer is possible if you really want it.</p>\n\n<p>Come prepared to dig in and find clarity on what a simpler summer looks like for YOU and your family. Lisa will share simple living principles and tips to simplify your summer activities then you&rsquo\;ll decide exactly what you want and you&rsquo\;ll create a plan to achieve it. We&rsquo\;ll add in some accountability steps to keep you on track and you&rsquo\;ll walk away ready to make this summer SIMPLE!</p>\n\n<p>Join us at 6:00pm for light refreshments and to browse the unique Maine-made items at our beautiful host location-FOUND. We&#39\;ll begin our program promptly at 6:30pm.</p>\n
LOCATION:FOUND 42 Main St. Kennebunk\, ME 04043
UID:e.1923.9777
SEQUENCE:3
DTSTAMP:20260425T154911Z
URL:https://chamber.gokennebunks.com/events/details/simplify-your-summer-life-simplifying-workshop-9777
END:VEVENT

END:VCALENDAR
