BEGIN:VCALENDAR
VERSION:2.0
PRODID:-//ChamberMaster//Event Calendar 2.0//EN
METHOD:PUBLISH
X-PUBLISHED-TTL:P3D
REFRESH-INTERVAL:P3D
CALSCALE:GREGORIAN
BEGIN:VEVENT
DTSTART:20241215T000000Z
DTEND:20241215T013000Z
X-MICROSOFT-CDO-ALLDAYEVENT:FALSE
SUMMARY:Silver & Gold | A Prelude Winter Concert at South Church
DESCRIPTION:South Congregational Church is pleased to announce Silver and Gold: A Prelude Winter Concert on Saturday\, December 14th\, at 7:00 PM. Join us for a magical evening of music to welcome the winter and holiday season\, featuring the talents of flutists Rachael Barter and Nichol Rabata.\n\n\n\nThe concert will include a selection of beautiful works by renowned composers\, such as Gabriel Faur \, Camille Saint-Sa ns\, and Pyotr Ilyich Tchaikovsky\, as well as some beloved traditional holiday favorites. The friends and collaborators\, Barter and Rabata\, will provide a warm and captivating performance\, weaving together the ethereal sounds of the flute with the rich harmonies of the season.\n\n\n\nThe evening's program will evoke the shimmer and beauty of winter\, celebrating both the festive and reflective nature of the holiday season. Whether you're looking to embrace the spirit of the season or simply enjoy a night of exquisite music\, this concert promises to be a highlight of your December.
X-ALT-DESC;FMTTYPE=text/html:<span style="font-size:16px">South Congregational Church is pleased to announce <em><strong>Silver and Gold: A Prelude Winter Concert</strong></em> on Saturday\, December 14th\, at 7:00 PM. Join us for a magical evening of music to welcome the winter and holiday season\, featuring the talents of flutists Rachael Barter and Nichol Rabata.</span><br />\n<br />\nThe concert will include a selection of beautiful works by renowned composers\, such as Gabriel Faur&eacute\;\, Camille Saint-Sa&euml\;ns\, and Pyotr Ilyich Tchaikovsky\, as well as some beloved traditional holiday favorites. The friends and collaborators\, Barter and Rabata\, will provide a warm and captivating performance\, weaving together the ethereal sounds of the flute with the rich harmonies of the season.<br />\n<br />\nThe evening&#39\;s program will evoke the shimmer and beauty of winter\, celebrating both the festive and reflective nature of the holiday season. Whether you&#39\;re looking to embrace the spirit of the season or simply enjoy a night of exquisite music\, this concert promises to be a highlight of your December.&nbsp\;
LOCATION:South Congregational Church 2 North St.\, Kennebunkport
UID:e.1923.31159
SEQUENCE:3
DTSTAMP:20260421T021124Z
URL:https://chamber.gokennebunks.com/events/details/silver-gold-a-prelude-winter-concert-at-south-church-31159
END:VEVENT

END:VCALENDAR
