BEGIN:VCALENDAR
VERSION:2.0
PRODID:-//ChamberMaster//Event Calendar 2.0//EN
METHOD:PUBLISH
X-PUBLISHED-TTL:P3D
REFRESH-INTERVAL:P3D
CALSCALE:GREGORIAN
BEGIN:VEVENT
DTSTART;VALUE=DATE:20180619
DTEND;VALUE=DATE:20180626
TRANSP:TRANSPARENT
X-MICROSOFT-CDO-ALLDAYEVENT:TRUE
SUMMARY:Siblings Art Show
DESCRIPTION:"Siblings" art show featuring brother and sister Peter Brown and Wendy Newcomb in their first collaboration. Work includes Wendy's paintings of colorful Maine landscapes and Peter's distinctive handcrafted artisan furniture. Artist Reception Saturday\, June 23 from 5 - 7pm. www.wendynewcomb.com\; www.meadowlarkdesigns.net
X-ALT-DESC;FMTTYPE=text/html:&quot\;Siblings&quot\; art show featuring brother and sister Peter Brown and Wendy Newcomb in their first collaboration. Work includes Wendy&#39\;s paintings of colorful Maine landscapes and Peter&#39\;s distinctive handcrafted artisan furniture. Artist Reception Saturday\, June 23 from 5 - 7pm. www.wendynewcomb.com\; www.meadowlarkdesigns.net
LOCATION:Maine Art Hill's Pop-Up Gallery\, 14 Western Ave. (Chase Hill)\, Kennebunk\, Maine
UID:e.1923.9902
SEQUENCE:3
DTSTAMP:20260425T143124Z
URL:https://chamber.gokennebunks.com/events/details/siblings-art-show-9902
END:VEVENT

END:VCALENDAR
