BEGIN:VCALENDAR
VERSION:2.0
PRODID:-//ChamberMaster//Event Calendar 2.0//EN
METHOD:PUBLISH
X-PUBLISHED-TTL:P3D
REFRESH-INTERVAL:P3D
CALSCALE:GREGORIAN
BEGIN:VEVENT
DTSTART:20190816T000000Z
DTEND:20190816T020000Z
X-MICROSOFT-CDO-ALLDAYEVENT:FALSE
SUMMARY:Sibling Revelry: Ann Hampton Callaway and Liz Callaway
DESCRIPTION:When Tony-nominated sisters Ann Hampton Callaway and Liz Callaway combine musical forces\, they put the revelry into rivalry in this award winning show of great songs and witty banter. SIBLING REVELRY was first presented at New York's Rainbow and Stars\, garnered raves at The Donmar Warehouse in London\, and continues to sell out halls across the country both as a trio act and with symphony orchestras. The best selling CD on DRG Records\, remains one of the classic cabaret must-haves. Separately\, of course\, they have made names for themselves: Ann's an acclaimed pop/jazz singer and songwriter and Liz is a Broadway veteran and recording artist. But put them together\, and this dynamic duo proves they're one singular sensation\, whether singing Broadway showstoppers from Chicago\, Wicked and Cats or rousing renditions of jazz and pop standards like "Happy Days/Get Happy\," "Friendship" and their TV hit\, the theme from "The Nanny."
X-ALT-DESC;FMTTYPE=text/html:When Tony-nominated sisters Ann Hampton Callaway and Liz Callaway combine musical forces\, they put the revelry into rivalry in this award winning show of great songs and witty banter. SIBLING REVELRY was first presented at New York&rsquo\;s Rainbow and Stars\, garnered raves at The Donmar Warehouse in London\, and continues to sell out halls across the country both as a trio act and with symphony orchestras. The best selling CD on DRG Records\, remains one of the classic cabaret must-haves. Separately\, of course\, they have made names for themselves: Ann&rsquo\;s an acclaimed pop/jazz singer and songwriter and Liz is a Broadway veteran and recording artist. But put them together\, and this dynamic duo proves they&rsquo\;re one singular sensation\, whether singing Broadway showstoppers from Chicago\, Wicked and Cats or rousing renditions of jazz and pop standards like &quot\;Happy Days/Get Happy\,&quot\; &quot\;Friendship&quot\; and their TV hit\, the theme from &ldquo\;The Nanny.&rdquo\;
LOCATION:Vinegar Hill Music Theatre 53 Old Post Rd. Arundel\, ME 04046
UID:e.1923.13085
SEQUENCE:3
DTSTAMP:20260424T165947Z
URL:https://chamber.gokennebunks.com/events/details/sibling-revelry-ann-hampton-callaway-and-liz-callaway-13085
END:VEVENT

END:VCALENDAR
