BEGIN:VCALENDAR
VERSION:2.0
PRODID:-//ChamberMaster//Event Calendar 2.0//EN
METHOD:PUBLISH
X-PUBLISHED-TTL:P3D
REFRESH-INTERVAL:P3D
CALSCALE:GREGORIAN
BEGIN:VEVENT
DTSTART:20250728T170000Z
DTEND:20250728T181500Z
X-MICROSOFT-CDO-ALLDAYEVENT:FALSE
SUMMARY:Shorts on the Green
DESCRIPTION:Join us on the South Church River Green as we read and discuss short stories about family. Bring a lawn chair to sit in and an open mind. We hope to see you there!\n\n\n\nFor the link to the stories\, please email Rev. Susan Townsley at pastor@southchurchucc.org.
X-ALT-DESC;FMTTYPE=text/html:Join us on the South Church River Green as we read and discuss short stories about family. Bring a lawn chair to sit in and an open mind. We hope to see you there!<br />\n<br />\nFor the link to the stories\, please email Rev. Susan Townsley at pastor@southchurchucc.org.
LOCATION:South Congregational Church River Green 2 North St.\, Kennebunkport
UID:e.1923.37664
SEQUENCE:3
DTSTAMP:20260421T073756Z
URL:https://chamber.gokennebunks.com/events/details/shorts-on-the-green-07-28-2025-37664
END:VEVENT

END:VCALENDAR
