BEGIN:VCALENDAR
VERSION:2.0
PRODID:-//ChamberMaster//Event Calendar 2.0//EN
METHOD:PUBLISH
X-PUBLISHED-TTL:P3D
REFRESH-INTERVAL:P3D
CALSCALE:GREGORIAN
BEGIN:VEVENT
DTSTART:20231125T130000Z
DTEND:20231126T000000Z
X-MICROSOFT-CDO-ALLDAYEVENT:FALSE
SUMMARY:Shop Small at 173 Mercantile
DESCRIPTION:Small Business Saturday at 173 Mercantile\n\nSpend $75 or more (online or in-store) on 11/25/23 and receive a free 173 Mercantile Winter Shop Tote and a 15% discount on future purchases when you use your tote (January-April 2024\; some exclusions apply\, full details included with each tote)\n\n \n\nLimited quantity available\, so shop early! Extended Hours: 8am-7pm with complimentary seasonal refreshments and in-store specials all day
X-ALT-DESC;FMTTYPE=text/html:<h1 style="text-align:center"><strong>Small Business Saturday at 173 Mercantile</strong></h1>\n\n<h2><strong>Spend $75 or more (online or in-store) on 11/25/23 and receive a free 173 Mercantile Winter Shop Tote and a 15% discount on future purchases when you use your tote (January-April 2024\; some exclusions apply\, full details included with each tote)</strong><br />\n&nbsp\;</h2>\n\n<h3><strong>Limited quantity available\, so shop early!&nbsp\;</strong><strong>Extended Hours: 8am-7pm with complimentary seasonal refreshments and in-store specials all day</strong></h3>\n\n<h3>&nbsp\;</h3>\n
LOCATION:173 Port Road Kennebunk\, Maine
UID:e.1923.23104
SEQUENCE:3
DTSTAMP:20260422T005026Z
URL:https://chamber.gokennebunks.com/events/details/shop-small-at-173-mercantile-23104
END:VEVENT

END:VCALENDAR
