BEGIN:VCALENDAR
VERSION:2.0
PRODID:-//ChamberMaster//Event Calendar 2.0//EN
METHOD:PUBLISH
X-PUBLISHED-TTL:P3D
REFRESH-INTERVAL:P3D
CALSCALE:GREGORIAN
BEGIN:VEVENT
DTSTART:20190824T140000Z
DTEND:20190824T170000Z
X-MICROSOFT-CDO-ALLDAYEVENT:FALSE
SUMMARY:Shipbuilding Odyssey
DESCRIPTION:This 3-hour heritage tour begins at the Museum with a brief\, illustrated talk about what life was like in the Kennebunks' many shipyards and what it took to build the vessels that eventually sailed trade routes spanning the globe. You'll then embark on a special\, narrated trolley excursion that takes you to various local sites associated with shipbuilding along the Kennebunk River in the 1800s. Return to the Museum for refreshments and a commemorative gift. Advance reservations required.
X-ALT-DESC;FMTTYPE=text/html:<span style="font-family:calibri\,sans-serif"><span style="font-size:11.0pt">This 3-hour heritage tour begins at the Museum with a brief\, illustrated talk about what life was like in the Kennebunks&#39\; many shipyards and what it took to build the vessels that eventually sailed trade routes spanning the globe. You&#39\;ll then embark on a special\, narrated trolley excursion that takes you to various local sites associated with shipbuilding along the Kennebunk River in the 1800s. Return to the Museum for refreshments and a commemorative gift. Advance reservations required.</span></span>
LOCATION:Brick Store Museum 117 Main Street Kennebunk\, ME 04043
UID:e.1923.13422
SEQUENCE:3
DTSTAMP:20260424T165357Z
URL:https://chamber.gokennebunks.com/events/details/shipbuilding-odyssey-13422
END:VEVENT

END:VCALENDAR
