BEGIN:VCALENDAR
VERSION:2.0
PRODID:-//ChamberMaster//Event Calendar 2.0//EN
METHOD:PUBLISH
X-PUBLISHED-TTL:P3D
REFRESH-INTERVAL:P3D
CALSCALE:GREGORIAN
BEGIN:VEVENT
DTSTART:20240813T130000Z
DTEND:20240815T220000Z
X-MICROSOFT-CDO-ALLDAYEVENT:FALSE
SUMMARY:Sharon Staz Memorial Free School Supplies Day
DESCRIPTION:Let's honor Sharon Staz! Sharon was the former KLPD director & a longtime Chamber volunteer.\n\nOne of the many ways Sharon gave back to this community was by buying backpacks every August & stuffing them full of school supplies. Then she'd label them with the grade level & put them in a bin under the Little Pantry.\n\nTo honor Sharon\, we have created the Sharon Staz Memorial Free School Supplies Day. This event will be held on August 13 - August 15 from 9am-1pm as well as 2-6pm on August 15 at the Chamber.\n\nOn these days\, anyone in need can come & pick up free school supplies. Everything will be first come first served.\n\nIf you'd like to get involved\, we are looking for donations of either funds or school supplies.\n\n\n	Amazon Wish List\n	Donate via Venmo - "Kennebunk KA Chamber" @kkachamber\n\n\nAll donations can be dropped off at the Chamber during business hours or shipped. Thank you!\n\n\n\nQuestions? Email Jamie at events@gokennebunks.com.
X-ALT-DESC;FMTTYPE=text/html:<div class="kvgmc6g5 cxmmr5t8 oygrvhab hcukyx3x c1et5uql" style="overflow-wrap: break-word\; margin: 0px\; font-family: &quot\;Segoe UI Historic&quot\;\, &quot\;Segoe UI&quot\;\, Helvetica\, Arial\, sans-serif\; color: rgb(5\, 5\, 5)\; font-size: 15px\;"><br />\n<span style="font-size:18px\;"><span style="font-family:arial\;"><strong>Let&#39\;s honor Sharon Staz! Sharon was the former KLPD director &amp\; a longtime Chamber volunteer.</strong></span></span></div>\n\n<div class="cxmmr5t8 oygrvhab hcukyx3x c1et5uql o9v6fnle" style="overflow-wrap: break-word\; margin: 0.5em 0px 0px\; font-family: &quot\;Segoe UI Historic&quot\;\, &quot\;Segoe UI&quot\;\, Helvetica\, Arial\, sans-serif\; color: rgb(5\, 5\, 5)\; font-size: 15px\;"><span style="font-size:16px\;"><span style="font-family:arial\;">One of the many ways Sharon gave back to this community was by buying backpacks every August &amp\; stuffing them full of school supplies. Then she&#39\;d label them with the grade level &amp\; put them in a bin under the Little Pantry.</span></span></div>\n\n<div class="cxmmr5t8 oygrvhab hcukyx3x c1et5uql o9v6fnle" style="overflow-wrap: break-word\; margin: 0.5em 0px 0px\; font-family: &quot\;Segoe UI Historic&quot\;\, &quot\;Segoe UI&quot\;\, Helvetica\, Arial\, sans-serif\; color: rgb(5\, 5\, 5)\; font-size: 15px\;"><span style="font-size:16px\;"><span style="font-family:arial\;"><strong>To honor Sharon\, we have created the Sharon Staz Memorial Free School Supplies Day. This event will be held on August 13 - August 15&nbsp\;from&nbsp\;9am-1pm as well as 2-6pm on August 15&nbsp\;at the Chamber.</strong></span></span></div>\n\n<div class="cxmmr5t8 oygrvhab hcukyx3x c1et5uql o9v6fnle" style="overflow-wrap: break-word\; margin: 0.5em 0px 0px\; font-family: &quot\;Segoe UI Historic&quot\;\, &quot\;Segoe UI&quot\;\, Helvetica\, Arial\, sans-serif\; color: rgb(5\, 5\, 5)\; font-size: 15px\;"><span style="font-size:16px\;"><span style="font-family:arial\;">On these days\, anyone in need can come &amp\; pick up free school supplies. Everything will be first come first served.</span></span></div>\n\n<div class="cxmmr5t8 oygrvhab hcukyx3x c1et5uql o9v6fnle" style="overflow-wrap: break-word\; margin: 0.5em 0px 0px\; font-family: &quot\;Segoe UI Historic&quot\;\, &quot\;Segoe UI&quot\;\, Helvetica\, Arial\, sans-serif\; color: rgb(5\, 5\, 5)\; font-size: 15px\;"><span style="font-size:16px\;"><span style="font-family:arial\;">If you&#39\;d like to get involved\, we are looking for donations of either funds or school supplies.</span></span></div>\n\n<ul>\n	<li class="cxmmr5t8 oygrvhab hcukyx3x c1et5uql o9v6fnle" style="overflow-wrap: break-word\; margin: 0.5em 0px 0px\; font-family: &quot\;Segoe UI Historic&quot\;\, &quot\;Segoe UI&quot\;\, Helvetica\, Arial\, sans-serif\; color: rgb(5\, 5\, 5)\; font-size: 15px\;"><span style="font-size:16px\;"><span style="font-family:arial\;"><a href="https://www.amazon.com/hz/wishlist/ls/3HQ1CAFS1VJPH?ref_=wl_share">Amazon Wish List</a></span></span></li>\n	<li class="cxmmr5t8 oygrvhab hcukyx3x c1et5uql o9v6fnle" style="overflow-wrap: break-word\; margin: 0.5em 0px 0px\; font-family: &quot\;Segoe UI Historic&quot\;\, &quot\;Segoe UI&quot\;\, Helvetica\, Arial\, sans-serif\; color: rgb(5\, 5\, 5)\; font-size: 15px\;"><span style="font-size:16px\;"><span style="font-family:arial\;">Donate via Venmo - &quot\;Kennebunk KA Chamber&quot\; @kkachamber</span></span></li>\n</ul>\n\n<div class="cxmmr5t8 oygrvhab hcukyx3x c1et5uql o9v6fnle" style="overflow-wrap: break-word\; margin: 0.5em 0px 0px\; font-family: &quot\;Segoe UI Historic&quot\;\, &quot\;Segoe UI&quot\;\, Helvetica\, Arial\, sans-serif\; color: rgb(5\, 5\, 5)\; font-size: 15px\;"><span style="font-size:16px\;"><span style="font-family:arial\;">All donations can be dropped off at the Chamber during business hours or shipped.&nbsp\;Thank you!<br />\n<br />\nQuestions? Email Jamie at events@gokennebunks.com.</span></span></div>\n
LOCATION:16 Water Street\, Kennebunk
UID:e.1923.29661
SEQUENCE:3
DTSTAMP:20260421T124526Z
URL:https://chamber.gokennebunks.com/events/details/sharon-staz-memorial-free-school-supplies-day-29661
END:VEVENT

END:VCALENDAR
