BEGIN:VCALENDAR
VERSION:2.0
PRODID:-//ChamberMaster//Event Calendar 2.0//EN
METHOD:PUBLISH
X-PUBLISHED-TTL:P3D
REFRESH-INTERVAL:P3D
CALSCALE:GREGORIAN
BEGIN:VEVENT
DTSTART:20230808T130000Z
DTEND:20230810T170000Z
X-MICROSOFT-CDO-ALLDAYEVENT:FALSE
SUMMARY:Sharon Staz Free School Supplies Day
DESCRIPTION:Let's honor Sharon Staz! Sharon was the former KLPD director & a longtime Chamber volunteer.\n\nOne of the many ways Sharon gave back to this community was by buying backpacks every August & stuffing them full of school supplies. Then she'd label them with the grade level & put them in a bin under the Little Pantry.\n\nTo honor Sharon\, we have created the Sharon Staz Free School Supplies Day. This event will be held on August 8-August 10 from 9am-1pm and 4-6pm on August 9 at the Chamber.\n\nOn these days\, anyone in need can come & pick up free school supplies. Everything will be first come first served.\n\nIf you'd like to get involved\, we are looking for donations of either funds or school supplies.\n\n\n	Amazon Wish List\n	Donate via Venmo - "Kennebunk KA Chamber" @kkachamber\n\n\n\n\nAll can be dropped off at the Chamber by Aug. 3rd. Thank you!
X-ALT-DESC;FMTTYPE=text/html:<div class="kvgmc6g5 cxmmr5t8 oygrvhab hcukyx3x c1et5uql" style="overflow-wrap: break-word\; margin: 0px\; font-family: &quot\;Segoe UI Historic&quot\;\, &quot\;Segoe UI&quot\;\, Helvetica\, Arial\, sans-serif\; color: rgb(5\, 5\, 5)\; font-size: 15px\;"><span style="font-size:16px\;"><strong>Let&#39\;s honor Sharon Staz! Sharon was the former KLPD director &amp\; a longtime Chamber volunteer.</strong></span></div>\n\n<div class="cxmmr5t8 oygrvhab hcukyx3x c1et5uql o9v6fnle" style="overflow-wrap: break-word\; margin: 0.5em 0px 0px\; font-family: &quot\;Segoe UI Historic&quot\;\, &quot\;Segoe UI&quot\;\, Helvetica\, Arial\, sans-serif\; color: rgb(5\, 5\, 5)\; font-size: 15px\;"><span style="font-size:14px\;">One of the many ways Sharon gave back to this community was by buying backpacks every August &amp\; stuffing them full of school supplies. Then she&#39\;d label them with the grade level &amp\; put them in a bin under the Little Pantry.</span></div>\n\n<div class="cxmmr5t8 oygrvhab hcukyx3x c1et5uql o9v6fnle" style="overflow-wrap: break-word\; margin: 0.5em 0px 0px\; font-family: &quot\;Segoe UI Historic&quot\;\, &quot\;Segoe UI&quot\;\, Helvetica\, Arial\, sans-serif\; color: rgb(5\, 5\, 5)\; font-size: 15px\;"><strong><span style="font-size:14px\;">To honor Sharon\, we have created the Sharon Staz Free School Supplies Day. This event will be held on August 8-August 10 from&nbsp\;9am-1pm and 4-6pm on August&nbsp\;9&nbsp\;at the Chamber.</span></strong></div>\n\n<div class="cxmmr5t8 oygrvhab hcukyx3x c1et5uql o9v6fnle" style="overflow-wrap: break-word\; margin: 0.5em 0px 0px\; font-family: &quot\;Segoe UI Historic&quot\;\, &quot\;Segoe UI&quot\;\, Helvetica\, Arial\, sans-serif\; color: rgb(5\, 5\, 5)\; font-size: 15px\;"><span style="font-size:14px\;">On these days\, anyone in need can come &amp\; pick up free school supplies. Everything will be first come first served.</span></div>\n\n<div class="cxmmr5t8 oygrvhab hcukyx3x c1et5uql o9v6fnle" style="overflow-wrap: break-word\; margin: 0.5em 0px 0px\; font-family: &quot\;Segoe UI Historic&quot\;\, &quot\;Segoe UI&quot\;\, Helvetica\, Arial\, sans-serif\; color: rgb(5\, 5\, 5)\; font-size: 15px\;"><span style="font-size:14px\;">If you&#39\;d like to get involved\, we are looking for donations of either funds or school supplies.</span></div>\n\n<ul>\n	<li class="cxmmr5t8 oygrvhab hcukyx3x c1et5uql o9v6fnle" style="overflow-wrap: break-word\; margin: 0.5em 0px 0px\; font-family: &quot\;Segoe UI Historic&quot\;\, &quot\;Segoe UI&quot\;\, Helvetica\, Arial\, sans-serif\; color: rgb(5\, 5\, 5)\; font-size: 15px\;"><a href="https://www.amazon.com/hz/wishlist/ls/3HQ1CAFS1VJPH?ref_=wl_share">Amazon Wish List</a></li>\n	<li class="cxmmr5t8 oygrvhab hcukyx3x c1et5uql o9v6fnle" style="overflow-wrap: break-word\; margin: 0.5em 0px 0px\; font-family: &quot\;Segoe UI Historic&quot\;\, &quot\;Segoe UI&quot\;\, Helvetica\, Arial\, sans-serif\; color: rgb(5\, 5\, 5)\; font-size: 15px\;">Donate via Venmo - &quot\;Kennebunk KA Chamber&quot\; @kkachamber</li>\n</ul>\n\n<div class="cxmmr5t8 oygrvhab hcukyx3x c1et5uql o9v6fnle" style="overflow-wrap: break-word\; margin: 0.5em 0px 0px\; font-family: &quot\;Segoe UI Historic&quot\;\, &quot\;Segoe UI&quot\;\, Helvetica\, Arial\, sans-serif\; color: rgb(5\, 5\, 5)\; font-size: 15px\;"><br />\n<span style="font-size:14px\;">All can be dropped off at the Chamber by Aug. 3rd. Thank you!</span><br />\n<br />\n&nbsp\;</div>\n
LOCATION:16 Water Street\, Kennebunk
UID:e.1923.22397
SEQUENCE:3
DTSTAMP:20260422T050455Z
URL:https://chamber.gokennebunks.com/events/details/sharon-staz-free-school-supplies-day-22397
END:VEVENT

END:VCALENDAR
