BEGIN:VCALENDAR
VERSION:2.0
PRODID:-//ChamberMaster//Event Calendar 2.0//EN
METHOD:PUBLISH
X-PUBLISHED-TTL:P3D
REFRESH-INTERVAL:P3D
CALSCALE:GREGORIAN
BEGIN:VEVENT
DTSTART;VALUE=DATE:20241203
DTEND;VALUE=DATE:20241204
TRANSP:TRANSPARENT
X-MICROSOFT-CDO-ALLDAYEVENT:TRUE
SUMMARY:Sharing the Light\, a joyful celebration of community and the arts
DESCRIPTION:SCHOOL AROUND US PRESENTS SHARING THE LIGHT\, A JOYFUL CELEBRATION OF COMMUNITY AND THE ARTS\n\nArundel\, Maine - School Around Us Co-Learning Community is pleased to announce a benefit concert celebrating our traditional Santa Lucia ceremony and highlighting the musical talents of our community. The concert will take place at Vinegar Hill Music Theater in Arundel\, Maine on Tuesday December 3rd from 6PM - 9PM. \n\nThe Children's concert and Santa Lucia ceremony will begin at 6PM followed by a Community Musical Showcase (7:30PM) featuring musicians Jason Roman\, Wayne Morphew\, Will Sawyer\, Ginny & Travis Munroe and Sharon Trace. You are welcome to come for one or both parts of the evening. Cookies\, treats and a cash bar will be available.\n\nAll ages are welcome. Tickets are not required. A suggested donation of $20 is requested at the door. Donations will benefit the School Around us Opportunity Fund\, a scholarship fund supporting our learners. \n\nSchool Around Us is an innovative participatory co-learning community serving learners ages 4-14 and based on strong relationships and mutual respect. We provide year-round\, connecting\, and meaningful educational experiences rooted in exploration and play\, holistic education\, and democratic decision-making practices that include learners in program design and community governance. We continually provide a non-coercive educational experience where learners are respected for who they are and allowed to grow at their own pace in partnership with their families and educators.\nFor more information go to www.schooolaroundus.org
X-ALT-DESC;FMTTYPE=text/html:<p><strong>SCHOOL AROUND US PRESENTS SHARING THE LIGHT\, A JOYFUL CELEBRATION OF COMMUNITY AND THE ARTS</strong></p>\n\n<p><span style="color:rgb(14\, 16\, 26)\; font-family:arial\,sans-serif\; font-size:12pt">Arundel\, Maine -&nbsp\;</span><strong>School Around Us Co-Learning Community</strong><span style="color:rgb(14\, 16\, 26)\; font-family:arial\,sans-serif\; font-size:12pt">&nbsp\;is pleased to announce a benefit concert celebrating our traditional Santa Lucia ceremony and highlighting the musical talents of our community. The concert will take place at Vinegar Hill Music Theater in Arundel\, Maine on Tuesday December 3rd from 6PM - 9PM.&nbsp\;</span></p>\n\n<p><span style="color:rgb(14\, 16\, 26)\; font-family:arial\,sans-serif\; font-size:12pt">The Children&rsquo\;s concert and Santa Lucia ceremony will begin at 6PM followed by a Community Musical Showcase (7:30PM) featuring musicians Jason Roman\, Wayne Morphew\, Will Sawyer\, Ginny &amp\; Travis Munroe and Sharon Trace. You are welcome to come for one or both parts of the evening. Cookies\, treats and a cash bar will be available.</span></p>\n\n<p><span style="color:rgb(14\, 16\, 26)\; font-family:arial\,sans-serif\; font-size:12pt">All ages are welcome. Tickets are not required. A suggested donation of $20 is requested at the door. Donations will benefit the School Around us Opportunity Fund\, a scholarship fund supporting our learners.&nbsp\;</span></p>\n\n<p><strong>School Around Us</strong><span style="color:rgb(14\, 16\, 26)\; font-family:arial\,sans-serif\; font-size:12pt">&nbsp\;is an innovative participatory co-learning community serving learners ages 4-14 and based on strong relationships and mutual respect. We provide year-round\, connecting\, and meaningful educational experiences rooted in exploration and play\, holistic education\, and democratic decision-making practices that include learners in program design and community governance. We continually provide a non-coercive educational experience where learners are respected for who they are and allowed to grow at their own pace in partnership with their families and educators.</span></p>\n<span style="color:rgb(14\, 16\, 26)\; font-family:arial\,sans-serif\; font-size:12pt">For more information go to&nbsp\;</span><a href="http://www.schooolaroundus.org/" style="color: rgb(17\, 85\, 204)\; font-family: Arial\, Helvetica\, sans-serif\; font-size: small\; text-decoration-line: none\;" target="_blank"><span style="color:rgb(74\, 110\, 224)\; font-family:arial\,sans-serif\; font-size:12pt">www.schooolaroundus.org</span></a>
LOCATION:Vinegar Hill Music Theater
UID:e.1923.31160
SEQUENCE:3
DTSTAMP:20260421T020906Z
URL:https://chamber.gokennebunks.com/events/details/sharing-the-light-a-joyful-celebration-of-community-and-the-arts-31160
END:VEVENT

END:VCALENDAR
