BEGIN:VCALENDAR
VERSION:2.0
PRODID:-//ChamberMaster//Event Calendar 2.0//EN
METHOD:PUBLISH
X-PUBLISHED-TTL:P3D
REFRESH-INTERVAL:P3D
CALSCALE:GREGORIAN
BEGIN:VEVENT
DTSTART:20220716T140000Z
DTEND:20220716T190000Z
X-MICROSOFT-CDO-ALLDAYEVENT:FALSE
SUMMARY:Secret Gardens of Kennebunkport
DESCRIPTION:We are very pleased to announce that Graves Library's Secret Gardens of Kennebunkport will be held again on Saturday\, July 16\, 2022 from 10:00 am to 3:00 pm (rain or shine). Six homeowners have agreed to open their private gardens for this one day only to help raise money for the Library. Tickets are $40 each and they can be purchased in advance online via Eventbrite or at the Library at 18 Maine Street. On the day of the event\, tickets will only be sold at Kennebunkport Consolidated School at 25 School Street. A detailed map will be provided on the day of the tours to all ticket holders to reveal the secret locations of the six participating properties. Visitors will be treated to a wide variety of garden styles and plant types amid lovely natural settings hidden from view behind stone walls\, seaside cottages\, and privacy hedges. Colorful perennials and annuals\, a scenic pond\, woodland sculptures\, ocean views\, a Zen-inspired rock garden\, trellised blooms\, and many more delights are waiting to be discovered during this special garden tour opportunity. All proceeds for this event benefit the Graves Memorial Public Library. Thank you for your support! Please call us with any questions. (207) 967-2778.
X-ALT-DESC;FMTTYPE=text/html:We are very pleased to announce that Graves Library&#39\;s Secret Gardens of Kennebunkport will be held again on Saturday\, July 16\, 2022 from 10:00 am to 3:00 pm (rain or shine). Six homeowners have agreed to open their private gardens for this one day only to help raise money for the Library. Tickets are $40 each and they can be purchased in advance online via Eventbrite or at the Library at 18 Maine Street. On the day of the event\, tickets will only be sold at Kennebunkport Consolidated School at 25 School Street. A detailed map will be provided on the day of the tours to all ticket holders to reveal the secret locations of the six participating properties. Visitors will be treated to a wide variety of garden styles and plant types amid lovely natural settings hidden from view behind stone walls\, seaside cottages\, and privacy hedges. Colorful perennials and annuals\, a scenic pond\, woodland sculptures\, ocean views\, a Zen-inspired rock garden\, trellised blooms\, and many more delights are waiting to be discovered during this special garden tour opportunity. All proceeds for this event benefit the Graves Memorial Public Library. Thank you for your support! Please call us with any questions. (207) 967-2778.
LOCATION:Louis T. Graves Memorial Public Library 18 Maine Street Kennebunkport\, ME 04046
UID:e.1923.17372
SEQUENCE:3
DTSTAMP:20260419T192400Z
URL:https://chamber.gokennebunks.com/events/details/secret-gardens-of-kennebunkport-17372
END:VEVENT

END:VCALENDAR
