BEGIN:VCALENDAR
VERSION:2.0
PRODID:-//ChamberMaster//Event Calendar 2.0//EN
METHOD:PUBLISH
X-PUBLISHED-TTL:P3D
REFRESH-INTERVAL:P3D
CALSCALE:GREGORIAN
BEGIN:VEVENT
DTSTART:20180616T000000Z
DTEND:20180616T020000Z
X-MICROSOFT-CDO-ALLDAYEVENT:FALSE
SUMMARY:Season Opener\, The Drifters
DESCRIPTION:One of Rock & Roll?s founding vocal groups\, The Drifters will once again grace our stage and kick off our 2018 season! Sing along to memorable songs such as ?Up on the Roof?\, ?Under the Boardwalk?\, ?This Magic Moment?\, ?There Goes My Baby?\, ?Dance with Me?\, ?Spanish Harlem?\, ?Stand by Me? and more!
X-ALT-DESC;FMTTYPE=text/html:One of Rock &amp\; Roll?s founding vocal groups\, The Drifters will once again grace our stage and kick off our 2018 season! Sing along to memorable songs such as ?Up on the Roof?\, ?Under the Boardwalk?\, ?This Magic Moment?\, ?There Goes My Baby?\, ?Dance with Me?\, ?Spanish Harlem?\, ?Stand by Me? and more!
LOCATION:Vinegar Hill Music Theatre 53 Old Post Rd. Arundel\, ME 04046
UID:e.1923.7158
SEQUENCE:3
DTSTAMP:20260425T143505Z
URL:https://chamber.gokennebunks.com/events/details/season-opener-the-drifters-7158
END:VEVENT

END:VCALENDAR
