BEGIN:VCALENDAR
VERSION:2.0
PRODID:-//ChamberMaster//Event Calendar 2.0//EN
METHOD:PUBLISH
X-PUBLISHED-TTL:P3D
REFRESH-INTERVAL:P3D
CALSCALE:GREGORIAN
BEGIN:VEVENT
DTSTART:20230713T210000Z
DTEND:20230714T000000Z
X-MICROSOFT-CDO-ALLDAYEVENT:FALSE
SUMMARY:Seaside Summer Soiree
DESCRIPTION:?? Join us for an Fun and Celebratory Evening by the Sea! ?? Mark your calendars and get ready to celebrate summer in style at the Kennebunk Land Trust Seaside Summer Soiree Fundraiser! ??? Raise a glass (and some delicious appetizers!) for conservation and come together to support the Kennebunk Land Trust's projects and programs. Your attendance directly contributes to the preservation of our beloved local landscapes and wildlife habitats. We hope you'll join us for a celebratory night in a beautiful location! New for 2023! Get your spot for the limited-ticket early entry: The Super Support Hour! This ticket is early admittance to the event with exclusive special appetizers\, music by Beau Dalleo Music\, and a Super Supporter commemorative glass. Celebrate even longer and show your Super Support! Ticket sales end July 7!
X-ALT-DESC;FMTTYPE=text/html:?? Join us for an Fun and Celebratory Evening by the Sea! ?? Mark your calendars and get ready to celebrate summer in style at the Kennebunk Land Trust Seaside Summer Soiree Fundraiser! ??? Raise a glass (and some delicious appetizers!) for conservation and come together to support the Kennebunk Land Trust&#39\;s projects and programs. Your attendance directly contributes to the preservation of our beloved local landscapes and wildlife habitats. We hope you&#39\;ll join us for a celebratory night in a beautiful location! New for 2023! Get your spot for the limited-ticket early entry: The Super Support Hour! This ticket is early admittance to the event with exclusive special appetizers\, music by Beau Dalleo Music\, and a Super Supporter commemorative glass. Celebrate even longer and show your Super Support! Ticket sales end July 7!
LOCATION:The Colony Hotel
UID:e.1923.20877
SEQUENCE:3
DTSTAMP:20260422T050233Z
URL:https://chamber.gokennebunks.com/events/details/seaside-summer-soiree-07-13-2023-20877
END:VEVENT

END:VCALENDAR
