BEGIN:VCALENDAR
VERSION:2.0
PRODID:-//ChamberMaster//Event Calendar 2.0//EN
METHOD:PUBLISH
X-PUBLISHED-TTL:P3D
REFRESH-INTERVAL:P3D
CALSCALE:GREGORIAN
BEGIN:VEVENT
DTSTART:20250715T150000Z
DTEND:20250715T170000Z
X-MICROSOFT-CDO-ALLDAYEVENT:FALSE
SUMMARY:Seaside Needle Felting Workshop
DESCRIPTION:At Brick Store Museum\, 117 Main St\, Kennebunk. \n\nCreate a stunning piece of coastal-inspired art in this relaxing and creative needle felting workshop! Using wool roving and natural elements like driftwood and twine\, you'll learn how to "paint with wool" and build texture to craft your own unique seascape wall hanging. $40.00 per person.\n\nVisit www.brickstoremuseum.org/calendar.
X-ALT-DESC;FMTTYPE=text/html:At Brick Store Museum\, 117 Main St\, Kennebunk.&nbsp\;<br />\nCreate a stunning piece of coastal-inspired art in this relaxing and creative needle felting workshop! Using wool roving and natural elements like driftwood and twine\, you&rsquo\;ll learn how to &ldquo\;paint with wool&rdquo\; and build texture to craft your own unique seascape wall hanging. $40.00 per person.<br />\nVisit <a href="http://www.brickstoremuseum.org/"><span style="color:windowtext">www.brickstoremuseum.org</span></a>/calendar.
LOCATION:Brick Store Museum.
UID:e.1923.37615
SEQUENCE:3
DTSTAMP:20260421T073251Z
URL:https://chamber.gokennebunks.com/events/details/seaside-needle-felting-workshop-37615
END:VEVENT

END:VCALENDAR
