BEGIN:VCALENDAR
VERSION:2.0
PRODID:-//ChamberMaster//Event Calendar 2.0//EN
METHOD:PUBLISH
X-PUBLISHED-TTL:P3D
REFRESH-INTERVAL:P3D
CALSCALE:GREGORIAN
BEGIN:VEVENT
DTSTART:20180711T143000Z
DTEND:20180711T153000Z
X-MICROSOFT-CDO-ALLDAYEVENT:FALSE
SUMMARY:Seashore Trolley Story Time
DESCRIPTION:Seashore Trolley Story Time 10:30 a.m.  Story for kids followed by ride
X-ALT-DESC;FMTTYPE=text/html:<span style="color:black"><span style="font-family:gisha">Seashore Trolley Story Time 10:30 a.m.&nbsp\; </span></span><span style="color:black"><span style="font-family:gisha">Story for kids followed by ride</span></span><br />\n&nbsp\;
LOCATION:Seashore Trolley Museum\, 195 Log Cabin Rd\, Kennebunkport
UID:e.1923.7229
SEQUENCE:3
DTSTAMP:20260425T132834Z
URL:https://chamber.gokennebunks.com/events/details/seashore-trolley-story-time-07-11-2018-7229
END:VEVENT

END:VCALENDAR
