BEGIN:VCALENDAR
VERSION:2.0
PRODID:-//ChamberMaster//Event Calendar 2.0//EN
METHOD:PUBLISH
X-PUBLISHED-TTL:P3D
REFRESH-INTERVAL:P3D
CALSCALE:GREGORIAN
BEGIN:VEVENT
DTSTART:20180218T180000Z
DTEND:20180218T200000Z
X-MICROSOFT-CDO-ALLDAYEVENT:FALSE
SUMMARY:Seascape Window Workshop
DESCRIPTION:Beat the winter blues with Seascape Seascape Creations instructor Cathy Cuniff will help you design a stunning 8x10 Seascape Window using an array of materials\, including sea glass\, starfish\, sand dollars\, and sea-inspired accents. Participants will take home their piece that night to be fused with Seascape Creation's Finishing Kit + Instructions. Fee includes all materials. Feel free to personalize with your own beach treasures!
X-ALT-DESC;FMTTYPE=text/html:Beat the winter blues with Seascape Seascape Creations instructor Cathy Cuniff will help you design a stunning 8x10 Seascape Window using an array of materials\, including sea glass\, starfish\, sand dollars\, and sea-inspired accents. Participants will take home their piece that night to be fused with Seascape Creation&#39\;s Finishing Kit + Instructions. Fee includes all materials. Feel free to personalize with your own beach treasures!
LOCATION:Duffy's Tavern 4 Main Street Kennebunk\, ME 04043
UID:e.1923.7022
SEQUENCE:3
DTSTAMP:20260425T193122Z
URL:https://chamber.gokennebunks.com/events/details/seascape-window-workshop-7022
END:VEVENT

END:VCALENDAR
