BEGIN:VCALENDAR
VERSION:2.0
PRODID:-//ChamberMaster//Event Calendar 2.0//EN
METHOD:PUBLISH
X-PUBLISHED-TTL:P3D
REFRESH-INTERVAL:P3D
CALSCALE:GREGORIAN
BEGIN:VEVENT
DTSTART:20191208T000000Z
DTEND:20191208T200000Z
X-MICROSOFT-CDO-ALLDAYEVENT:FALSE
SUMMARY:Seaglass concert: On Earth\, Peace
DESCRIPTION:Seaglass Chorale is a local non-profit dedicated to providing a creative outlet through music and song\, and seeking to promote Maine artists and offer members the opportunity to perform together in an inclusive environment. Our next concert was conceived around the idea of Peace with a festive assortment of classical music\, carols\, and gospel. We will be performing in South Congregational Church in Kennebunkport on December 7 at 7pm as part of the Prelude program\, and in Holy Family Catholic Church in Sanford on December 8 at 3pm.
X-ALT-DESC;FMTTYPE=text/html:Seaglass Chorale is a local non-profit dedicated to providing a creative outlet through music and song\, and seeking to promote Maine artists and offer members the opportunity to perform together in an inclusive environment. Our next concert was conceived around the idea of Peace with a festive assortment of classical music\, carols\, and gospel. We will be performing in South Congregational Church in Kennebunkport on December 7 at 7pm as part of the Prelude program\, and in Holy Family Catholic Church in Sanford on December 8 at 3pm.
LOCATION:Kennebunkport and Sanford
UID:e.1923.15512
SEQUENCE:3
DTSTAMP:20260424T124521Z
URL:https://chamber.gokennebunks.com/events/details/seaglass-concert-on-earth-peace-15512
END:VEVENT

END:VCALENDAR
