BEGIN:VCALENDAR
VERSION:2.0
PRODID:-//ChamberMaster//Event Calendar 2.0//EN
METHOD:PUBLISH
X-PUBLISHED-TTL:P3D
REFRESH-INTERVAL:P3D
CALSCALE:GREGORIAN
BEGIN:VEVENT
DTSTART:20231202T210000Z
DTEND:20231202T230000Z
X-MICROSOFT-CDO-ALLDAYEVENT:FALSE
SUMMARY:Seaglass Chorale - A Celtic Holiday Celebration
DESCRIPTION:Seaglass Chorale is proud to celebrate our 30th Season! We will be performing two concerts this season at St. David's Church in Kennebunk on Friday December 1st at 7PM\, and Saturday December 2nd at 4PM. Tickets are $20 for Adults and $10 for 18 and under. The concert will feature our full Seaglass Chorale\, as well as our select choir the Seatones\, Dancers from the Stillson School of Irish Dance\, and Irish Fiddlers Ryan & Brennish Thomson. Hopefully the impact will be a community musical showcase!
X-ALT-DESC;FMTTYPE=text/html:Seaglass Chorale is proud to celebrate our 30th Season! We will be performing two concerts this season at St. David&#39\;s Church in Kennebunk on Friday December 1st at 7PM\, and Saturday December 2nd at 4PM. Tickets are $20 for Adults and $10 for 18 and under. The concert will feature our full Seaglass Chorale\, as well as our select choir the Seatones\, Dancers from the Stillson School of Irish Dance\, and Irish Fiddlers Ryan &amp\; Brennish Thomson. Hopefully the impact will be a community musical showcase!
LOCATION:St. David's Church York Street Kennebunk\, ME
UID:e.1923.23078
SEQUENCE:3
DTSTAMP:20260421T221353Z
URL:https://chamber.gokennebunks.com/events/details/seaglass-chorale-a-celtic-holiday-celebration-12-02-2023-23078
END:VEVENT

END:VCALENDAR
