BEGIN:VCALENDAR
VERSION:2.0
PRODID:-//ChamberMaster//Event Calendar 2.0//EN
METHOD:PUBLISH
X-PUBLISHED-TTL:P3D
REFRESH-INTERVAL:P3D
CALSCALE:GREGORIAN
BEGIN:VEVENT
DTSTART:20241214T210000Z
DTEND:20241214T223000Z
X-MICROSOFT-CDO-ALLDAYEVENT:FALSE
SUMMARY:Seaglass Chorale 2024 Winter Concert - Stella Natalis
DESCRIPTION:We are proud to present our 2024 Winter Concert - Stella Natalis ?The concert will feature "Stella Natalis" Karl Jenkins's 2009 work in twelve movements celebrating different aspects of Christmastide\; winter\, the sleeping child\, tidings of peace\, thanksgiving. The evening will end with a performance by the Seatones and a community holiday sing-a-long. We will be performing two concerts this season at St. David's Church in Kennebunk on Friday December 13th at 7PM and Saturday December 14th at 4PM.
X-ALT-DESC;FMTTYPE=text/html:We are proud to present our 2024 Winter Concert - Stella Natalis ?The concert will feature &quot\;Stella Natalis&quot\; Karl Jenkins&rsquo\;s 2009 work in twelve movements celebrating different aspects of Christmastide\; winter\, the sleeping child\, tidings of peace\, thanksgiving. The evening will end with a performance by the Seatones and a community holiday sing-a-long. We will be performing two concerts this season at St. David&#39\;s Church in Kennebunk on Friday December 13th at 7PM and Saturday December 14th at 4PM.
LOCATION:St. David's Episcopal Church 138 York St Kennebunk\, ME
UID:e.1923.31050
SEQUENCE:3
DTSTAMP:20260421T021023Z
URL:https://chamber.gokennebunks.com/events/details/seaglass-chorale-2024-winter-concert-stella-natalis-12-14-2024-31050
END:VEVENT

END:VCALENDAR
