BEGIN:VCALENDAR
VERSION:2.0
PRODID:-//ChamberMaster//Event Calendar 2.0//EN
METHOD:PUBLISH
X-PUBLISHED-TTL:P3D
REFRESH-INTERVAL:P3D
CALSCALE:GREGORIAN
BEGIN:VEVENT
DTSTART:20240814T220000Z
DTEND:20240815T000000Z
X-MICROSOFT-CDO-ALLDAYEVENT:FALSE
SUMMARY:Sea Glass Art @Village by the Sea
DESCRIPTION:Join us a the beautiful Village by the Sea and get ready to immerse yourself in the world of coastal creativity and leave with a one-of-a-kind creation to showcase in your home or gift to a loved one!\n\nYou'll learn various techniques for arranging the sea glass to bring out its natural colors and shapes. The wooden frame serves as the perfect backdrop\, complementing the coastal theme and providing a rustic touch to your masterpiece.\n\nAll materials are included. Tickets must be purchased in advance. Extra materials will be on hand for additional purchase if you want to do more than one!\n\n\n\nFeel free to bring your own NON-ALCHOLIC beverages and snacks.
X-ALT-DESC;FMTTYPE=text/html:<p>Join us a the beautiful Village by the Sea and get ready to immerse yourself in the world of coastal creativity and leave with a one-of-a-kind creation to showcase in your home or gift to a loved one!</p>\n\n<p>You&rsquo\;ll learn various techniques for arranging the sea glass to bring out its natural colors and shapes. The wooden frame serves as the perfect backdrop\, complementing the coastal theme and providing a rustic touch to your masterpiece.</p>\n\n<p>All materials are included. Tickets must be purchased in advance. Extra materials will be on hand for additional purchase if you want to do more than one!<br />\n<br />\nFeel free to bring your own NON-ALCHOLIC beverages and snacks.</p>\n
LOCATION:Village by the Sea 1373 Post Road Wells\, ME
UID:e.1923.29663
SEQUENCE:3
DTSTAMP:20260421T124441Z
URL:https://chamber.gokennebunks.com/events/details/sea-glass-art-village-by-the-sea-29663
END:VEVENT

END:VCALENDAR
