BEGIN:VCALENDAR
VERSION:2.0
PRODID:-//ChamberMaster//Event Calendar 2.0//EN
METHOD:PUBLISH
X-PUBLISHED-TTL:P3D
REFRESH-INTERVAL:P3D
CALSCALE:GREGORIAN
BEGIN:VEVENT
DTSTART:20240619T160000Z
DTEND:20240619T170000Z
X-MICROSOFT-CDO-ALLDAYEVENT:FALSE
SUMMARY:SCORE Seacoast Workshop: W-2 or 1099: How do you know?
DESCRIPTION:Are you unsure of how to classify your next "hire?" Is that person going to be a W2 Employee\, or do they qualify for 1099 Contractor Status? This training will outline clearly for you what the difference between these two types of people in your organization are\, legal compliance with the FLSA (Fair Labor Standards Act) and assist you with defining the best choice for your business.
X-ALT-DESC;FMTTYPE=text/html:Are you unsure of how to classify your next &ldquo\;hire?&rdquo\; Is that person going to be a W2 Employee\, or do they qualify for 1099 Contractor Status? This training will outline clearly for you what the difference between these two types of people in your organization are\, legal compliance with the FLSA (Fair Labor Standards Act) and assist you with defining the best choice for your business.&nbsp\;
LOCATION:This is a FREE live online workshop presented by SCORE Seacoast volunteers
UID:e.1923.25320
SEQUENCE:3
DTSTAMP:20260421T140236Z
URL:https://chamber.gokennebunks.com/events/details/score-seacoast-workshop-w-2-or-1099-how-do-you-know-25320
END:VEVENT

END:VCALENDAR
