BEGIN:VCALENDAR
VERSION:2.0
PRODID:-//ChamberMaster//Event Calendar 2.0//EN
METHOD:PUBLISH
X-PUBLISHED-TTL:P3D
REFRESH-INTERVAL:P3D
CALSCALE:GREGORIAN
BEGIN:VEVENT
DTSTART:20240612T160000Z
DTEND:20240612T170000Z
X-MICROSOFT-CDO-ALLDAYEVENT:FALSE
SUMMARY:SCORE Seacoast Workshop: Survey of Digital Marketing Techniques
DESCRIPTION:Unlock the Power of Digital Marketing with SC Digital! Join us for a dynamic 1.5-hour workshop designed to demystify the world of digital marketing. Led by Brad Solomon\, owner of SC Digital\, this engaging session will cover essential digital marketing components such as website optimization\, SEO strategies\, social media tactics\, pay-per-click advertising insights\, and email marketing essentials. Gain practical insights into measuring  campaign success\, learn to craft a winning digital marketing strategy\, and explore real-world case studies. Whether you're a small business owner or entrepreneur\, this workshop equips you with actionable knowledge to elevate your online presence and drive business growth.
X-ALT-DESC;FMTTYPE=text/html:Unlock the Power of Digital Marketing with SC Digital! Join us for a dynamic 1.5-hour workshop designed to demystify the world of digital marketing. Led by Brad Solomon\, owner of SC Digital\, this engaging session will cover essential digital marketing components such as website optimization\, SEO strategies\, social media tactics\, pay-per-click advertising insights\, and email marketing essentials. Gain practical insights into measuring&nbsp\; campaign success\, learn to craft a winning digital marketing strategy\, and explore real-world case studies. Whether you&#39\;re a small business owner or entrepreneur\, this workshop equips you with actionable knowledge to elevate your online presence and drive business growth.
LOCATION:This is a FREE live online workshop presented by SCORE Seacoast volunteers
UID:e.1923.25318
SEQUENCE:3
DTSTAMP:20260421T153257Z
URL:https://chamber.gokennebunks.com/events/details/score-seacoast-workshop-survey-of-digital-marketing-techniques-06-12-2024-25318
END:VEVENT

END:VCALENDAR
