BEGIN:VCALENDAR
VERSION:2.0
PRODID:-//ChamberMaster//Event Calendar 2.0//EN
METHOD:PUBLISH
X-PUBLISHED-TTL:P3D
REFRESH-INTERVAL:P3D
CALSCALE:GREGORIAN
BEGIN:VEVENT
DTSTART:20240610T220000Z
DTEND:20240610T230000Z
X-MICROSOFT-CDO-ALLDAYEVENT:FALSE
SUMMARY:SCORE Seacoast Workshop: QuickBooks
DESCRIPTION:QuickBooks is a business software package used by many to keep track of income and expenses plus generate those financial summaries necessary to understand where your business is at. This workshop will help small business owners evaluate whether or not this industry-leading accounting software package is right for them. The session is designed for entrepreneurs who understand basic financial terms and concepts.
X-ALT-DESC;FMTTYPE=text/html:QuickBooks is a business software package used by many to keep track of income and expenses plus generate those financial summaries necessary to understand where your business is at. This workshop will help small business owners evaluate whether or not this industry-leading accounting software package is right for them. The session is designed for entrepreneurs who understand basic financial terms and concepts.
LOCATION:This is a FREE live online workshop presented by SCORE Seacoast volunteers
UID:e.1923.25317
SEQUENCE:3
DTSTAMP:20260421T140206Z
URL:https://chamber.gokennebunks.com/events/details/score-seacoast-workshop-quickbooks-06-10-2024-25317
END:VEVENT

END:VCALENDAR
