BEGIN:VCALENDAR
VERSION:2.0
PRODID:-//ChamberMaster//Event Calendar 2.0//EN
METHOD:PUBLISH
X-PUBLISHED-TTL:P3D
REFRESH-INTERVAL:P3D
CALSCALE:GREGORIAN
BEGIN:VEVENT
DTSTART:20240925T220000Z
DTEND:20240925T230000Z
X-MICROSOFT-CDO-ALLDAYEVENT:FALSE
SUMMARY:SCORE Seacoast Workshop: Preparing Financial Projections
DESCRIPTION:Using spreadsheet examples\, we will create monthly profit & loss projections for Year 1 based on estimates for sales activity\, variable cost of sales\, and monthly operating expenses.  We will expand on this to include funding requirements and cash flow for Year 1 and extend it all annually for Years 2 & 3.  We will then address the financial projections statements typically required by banks and outside lenders:  (1)  Profit & Loss\, (2)  Balance Sheet\, and (3) Cash Flow.  Join us for this overview and see how SCORE mentors can help you with developing your own projections!
X-ALT-DESC;FMTTYPE=text/html:Using spreadsheet examples\, we will create monthly profit &amp\; loss projections for Year 1 based on estimates for sales activity\, variable cost of sales\, and monthly operating expenses.&nbsp\; We will expand on this to include funding requirements and cash flow for Year 1 and extend it all annually for Years 2 &amp\; 3.&nbsp\; We will then address the financial projections statements typically required by banks and outside lenders:&nbsp\; (1)&nbsp\; Profit &amp\; Loss\, (2)&nbsp\; Balance Sheet\, and (3) Cash Flow.&nbsp\; Join us for this overview and see how SCORE mentors can help you with developing your own projections!
LOCATION:This is a FREE live online workshop presented by SCORE Seacoast volunteers
UID:e.1923.29904
SEQUENCE:3
DTSTAMP:20260421T100057Z
URL:https://chamber.gokennebunks.com/events/details/score-seacoast-workshop-preparing-financial-projections-09-25-2024-29904
END:VEVENT

END:VCALENDAR
