BEGIN:VCALENDAR
VERSION:2.0
PRODID:-//ChamberMaster//Event Calendar 2.0//EN
METHOD:PUBLISH
X-PUBLISHED-TTL:P3D
REFRESH-INTERVAL:P3D
CALSCALE:GREGORIAN
BEGIN:VEVENT
DTSTART:20241008T220000Z
DTEND:20241008T230000Z
X-MICROSOFT-CDO-ALLDAYEVENT:FALSE
SUMMARY:SCORE Seacoast Workshop: Marketing Fundamentals & Best Practices
DESCRIPTION:In this free online workshop\, you will learn:\n\n	Smart marketing fundamentals\n	14 best practices\n	Small business success stories\n	and useful resources\n\nJoin group brainstorming sessions to generate good\n\nideas. The goal is to help you take action right now\n\nwhether you're starting a small business or growing one.
X-ALT-DESC;FMTTYPE=text/html:In this free online workshop\, you will learn:\n<ul>\n	<li>Smart marketing fundamentals</li>\n	<li>14 best practices</li>\n	<li>Small business success stories</li>\n	<li>and useful resources</li>\n</ul>\nJoin group brainstorming sessions to generate good<br />\nideas. The goal is to help you take action right now<br />\nwhether you&#39\;re starting a small business or growing one.
LOCATION:This is a FREE live online workshop presented by SCORE Seacoast volunteers
UID:e.1923.30960
SEQUENCE:3
DTSTAMP:20260421T100056Z
URL:https://chamber.gokennebunks.com/events/details/score-seacoast-workshop-marketing-fundamentals-best-practices-10-08-2024-30960
END:VEVENT

END:VCALENDAR
