BEGIN:VCALENDAR
VERSION:2.0
PRODID:-//ChamberMaster//Event Calendar 2.0//EN
METHOD:PUBLISH
X-PUBLISHED-TTL:P3D
REFRESH-INTERVAL:P3D
CALSCALE:GREGORIAN
BEGIN:VEVENT
DTSTART:20240911T160000Z
DTEND:20240911T170000Z
X-MICROSOFT-CDO-ALLDAYEVENT:FALSE
SUMMARY:SCORE Seacoast Workshop: Google Adwords
DESCRIPTION:This free workshop will provide an introduction to Google Adwords\, a powerful advertising platform that helps businesses reach their target customers. In this interactive session\, you'll learn the basics of setting up campaigns\, selecting keywords and building effective ad copy. You'll also have the opportunity to ask questions and gain valuable insights from experienced professionals. Whether you're just starting out in digital marketing or need to brush up on your Adwords skills\, this workshop will give you the foundation you need to succeed.
X-ALT-DESC;FMTTYPE=text/html:This free workshop will provide an introduction to Google Adwords\, a powerful advertising platform that helps businesses reach their target customers. In this interactive session\, you&#39\;ll learn the basics of setting up campaigns\, selecting keywords and building effective ad copy. You&#39\;ll also have the opportunity to ask questions and gain valuable insights from experienced professionals. Whether you&#39\;re just starting out in digital marketing or need to brush up on your Adwords skills\, this workshop will give you the foundation you need to succeed.&nbsp\;
LOCATION:This is a FREE live online workshop presented by SCORE Seacoast volunteers
UID:e.1923.29899
SEQUENCE:3
DTSTAMP:20260421T100044Z
URL:https://chamber.gokennebunks.com/events/details/score-seacoast-workshop-google-adwords-09-11-2024-29899
END:VEVENT

END:VCALENDAR
