BEGIN:VCALENDAR
VERSION:2.0
PRODID:-//ChamberMaster//Event Calendar 2.0//EN
METHOD:PUBLISH
X-PUBLISHED-TTL:P3D
REFRESH-INTERVAL:P3D
CALSCALE:GREGORIAN
BEGIN:VEVENT
DTSTART:20240320T160000Z
DTEND:20240320T170000Z
X-MICROSOFT-CDO-ALLDAYEVENT:FALSE
SUMMARY:SCORE Seacoast Workshop: Franchising - Business in a Box
DESCRIPTION:Franchising: A Business in a Box. Or\, at least that's what most people think! In this session\, we will dive into what franchising is *really* like\, weigh the pros and cons\, and navigate the decisions that are left up to you. Franchising comes with differing levels of support\, both on the ground and via online support from your franchisor. Looking to expand? We will discuss commonalities that can be used to grow at scale. Whether you are considering opening your first franchise\, considering expansion to multiple units or brands\, or don't know where to start when it comes to business   this session is for you!
X-ALT-DESC;FMTTYPE=text/html:Franchising: A Business in a Box. Or\, at least that&rsquo\;s what most people think! In this session\, we will dive into what franchising is *really* like\, weigh the pros and cons\, and navigate the decisions that are left up to you. Franchising comes with differing levels of support\, both on the ground and via online support from your franchisor. Looking to expand? We will discuss commonalities that can be used to grow at scale. Whether you are considering opening your first franchise\, considering expansion to multiple units or brands\, or don&rsquo\;t know where to start when it comes to business &mdash\; this session is for you!&nbsp\;
LOCATION:This is a FREE live online workshop presented by SCORE Seacoast volunteers
UID:e.1923.24423
SEQUENCE:3
DTSTAMP:20260421T180803Z
URL:https://chamber.gokennebunks.com/events/details/score-seacoast-workshop-franchising-business-in-a-box-24423
END:VEVENT

END:VCALENDAR
