BEGIN:VCALENDAR
VERSION:2.0
PRODID:-//ChamberMaster//Event Calendar 2.0//EN
METHOD:PUBLISH
X-PUBLISHED-TTL:P3D
REFRESH-INTERVAL:P3D
CALSCALE:GREGORIAN
BEGIN:VEVENT
DTSTART:20240923T160000Z
DTEND:20240923T170000Z
X-MICROSOFT-CDO-ALLDAYEVENT:FALSE
SUMMARY:SCORE Seacoast Workshop: Digital Marketing Essentials II - Email\, Social Media & more
DESCRIPTION:Whether you're just starting out or have been in business for a while\, this workshop will help you create effective digital marketing campaigns to promote your small business. You'll learn how to successfully use various digital marketing channels including email marketing\, social media marketing\, and paid search and content advertising.  REGISTER NOW!
X-ALT-DESC;FMTTYPE=text/html:Whether you&#39\;re just starting out or have been in business for a while\, this workshop will help you create effective digital marketing campaigns to promote your small business. You&#39\;ll learn how to successfully use various digital marketing channels including email marketing\, social media marketing\, and paid search and content advertising.&nbsp\; REGISTER NOW!
LOCATION:FREE live online workshop presented by SCORE Seacoast volunteer
UID:e.1923.29902
SEQUENCE:3
DTSTAMP:20260421T111829Z
URL:https://chamber.gokennebunks.com/events/details/score-seacoast-workshop-digital-marketing-essentials-ii-email-social-media-more-29902
END:VEVENT

END:VCALENDAR
