BEGIN:VCALENDAR
VERSION:2.0
PRODID:-//ChamberMaster//Event Calendar 2.0//EN
METHOD:PUBLISH
X-PUBLISHED-TTL:P3D
REFRESH-INTERVAL:P3D
CALSCALE:GREGORIAN
BEGIN:VEVENT
DTSTART:20241007T160000Z
DTEND:20241007T170000Z
X-MICROSOFT-CDO-ALLDAYEVENT:FALSE
SUMMARY:SCORE Seacoast Workshop: Digital Marketing 1 - Websites & SEO
DESCRIPTION:Whether you're just starting out or have been in business for a while\, this workshop will help you create an effective website for your small business. You'll learn key factors for a successful website that will enhance your company's image and help convince potential customers to choose your products or services. You'll also learn how to do search engine optimization on your website to bring in more potential customers. REGISTER NOW!
X-ALT-DESC;FMTTYPE=text/html:Whether you&#39\;re just starting out or have been in business for a while\, this workshop will help you create an effective website for your small business. You&#39\;ll learn key factors for a successful website that will enhance your company&#39\;s image and help convince potential customers to choose your products or services. You&#39\;ll also learn how to do search engine optimization on your website to bring in more potential customers. REGISTER NOW!
LOCATION:FREE live online workshop presented by SCORE Seacoast volunteer
UID:e.1923.30959
SEQUENCE:3
DTSTAMP:20260421T100209Z
URL:https://chamber.gokennebunks.com/events/details/score-seacoast-workshop-digital-marketing-1-websites-seo-10-07-2024-30959
END:VEVENT

END:VCALENDAR
