BEGIN:VCALENDAR
VERSION:2.0
PRODID:-//ChamberMaster//Event Calendar 2.0//EN
METHOD:PUBLISH
X-PUBLISHED-TTL:P3D
REFRESH-INTERVAL:P3D
CALSCALE:GREGORIAN
BEGIN:VEVENT
DTSTART:20240909T220000Z
DTEND:20240909T230000Z
X-MICROSOFT-CDO-ALLDAYEVENT:FALSE
SUMMARY:SCORE Seacoast Workshop: Business Finance for Beginners (SCORE Finance 1)
DESCRIPTION:The focus of this workshop is on understanding and using those confusing financial terms that all small business owners need to know. We will start at square one and use language that you can understand. Our goal is to strip away the mystery surrounding business finance. We cover the must-knows.
X-ALT-DESC;FMTTYPE=text/html:The focus of this workshop is on understanding and using those confusing financial terms that all small business owners need to know. We will start at square one and use language that you can understand. Our goal is to strip away the mystery surrounding business finance. We cover the must-knows.
LOCATION:This is a FREE live online workshop presented by SCORE Seacoast volunteers
UID:e.1923.29898
SEQUENCE:3
DTSTAMP:20260421T111937Z
URL:https://chamber.gokennebunks.com/events/details/score-seacoast-workshop-business-finance-for-beginners-score-finance-1-09-09-2024-29898
END:VEVENT

END:VCALENDAR
