BEGIN:VCALENDAR
VERSION:2.0
PRODID:-//ChamberMaster//Event Calendar 2.0//EN
METHOD:PUBLISH
X-PUBLISHED-TTL:P3D
REFRESH-INTERVAL:P3D
CALSCALE:GREGORIAN
BEGIN:VEVENT
DTSTART:20241009T160000Z
DTEND:20241009T170000Z
X-MICROSOFT-CDO-ALLDAYEVENT:FALSE
SUMMARY:SCORE Seacoast Workshop: Business Finance - Beyond the Basics (SCORE Finance 2)
DESCRIPTION:In this workshop we explore the difference between profit and cash flow\, breakeven analysis\, forecasting\, and other topics to help you plan for the success of your business. We suggest you take the SCORE Basic Finance workshop\, or have some finance experience or training\, before taking this workshop.  REGISTER NOW!
X-ALT-DESC;FMTTYPE=text/html:In this workshop we explore the difference between profit and cash flow\, breakeven analysis\, forecasting\, and other topics to help you plan for the success of your business. We suggest you take the SCORE Basic Finance workshop\, or have some finance experience or training\, before taking this workshop.&nbsp\; REGISTER NOW!
LOCATION:This is a FREE live online workshop presented by SCORE Seacoast volunteers
UID:e.1923.30961
SEQUENCE:3
DTSTAMP:20260421T111904Z
URL:https://chamber.gokennebunks.com/events/details/score-seacoast-workshop-business-finance-beyond-the-basics-score-finance-2-30961
END:VEVENT

END:VCALENDAR
