BEGIN:VCALENDAR
VERSION:2.0
PRODID:-//ChamberMaster//Event Calendar 2.0//EN
METHOD:PUBLISH
X-PUBLISHED-TTL:P3D
REFRESH-INTERVAL:P3D
CALSCALE:GREGORIAN
BEGIN:VEVENT
DTSTART:20240410T220000Z
DTEND:20240410T230000Z
X-MICROSOFT-CDO-ALLDAYEVENT:FALSE
SUMMARY:SCORE Seacoast Workshop: Boost Your Business with Artificial Intelligence (AI)
DESCRIPTION:Explore the exciting world of artificial intelligence (AI)! Learn what AI is and how you might already be experiencing it.  We will outline the benefits of AI for small businesses and debunk some of the myths and misconceptions.  We will help you to get started using AI in your business.  Finally\, we will summarize the benefits of AI and take any questions you might have.
X-ALT-DESC;FMTTYPE=text/html:Explore the exciting world of artificial intelligence (AI)! Learn what AI is and how you might already be experiencing it.&nbsp\; We will outline the benefits of AI for small businesses and debunk some of the myths and misconceptions.&nbsp\; We will help you to get started using AI in your business.&nbsp\; Finally\, we will summarize the benefits of AI and take any questions you might have.
LOCATION:This is a FREE live online workshop presented by SCORE Seacoast volunteers
UID:e.1923.24505
SEQUENCE:3
DTSTAMP:20260421T164049Z
URL:https://chamber.gokennebunks.com/events/details/score-seacoast-workshop-boost-your-business-with-artificial-intelligence-ai-24505
END:VEVENT

END:VCALENDAR
