BEGIN:VCALENDAR
VERSION:2.0
PRODID:-//ChamberMaster//Event Calendar 2.0//EN
METHOD:PUBLISH
X-PUBLISHED-TTL:P3D
REFRESH-INTERVAL:P3D
CALSCALE:GREGORIAN
BEGIN:VEVENT
DTSTART:20261221T160000Z
DTEND:20261221T180000Z
X-MICROSOFT-CDO-ALLDAYEVENT:FALSE
SUMMARY:SCORE Free Business Mentoring
DESCRIPTION:SCORE is offering dedicated office hours\, providing a valuable opportunity to connect with experienced business mentors. Whether you are navigating growth challenges\, refining your Marketing strategy\, tackling hiring and retention issues\, or planning for succession. SCORE's expert mentors are here to help.
X-ALT-DESC;FMTTYPE=text/html:<p>SCORE is offering dedicated office hours\, providing a valuable opportunity to connect with experienced business mentors. Whether you are navigating growth challenges\, refining your Marketing strategy\, tackling hiring and retention issues\, or planning for succession. SCORE&#39\;s expert mentors are here to help.&nbsp\;</p>\n
LOCATION:Kennebunk-Kennebunkport-Arundel Chamber of Commerce 16 Water St\, Kennebunk. ME 04043
UID:e.1923.39045
SEQUENCE:3
DTSTAMP:20260424T123015Z
URL:https://chamber.gokennebunks.com/events/details/score-free-business-mentoring-12-21-2026-39045
END:VEVENT

END:VCALENDAR
