BEGIN:VCALENDAR
VERSION:2.0
PRODID:-//ChamberMaster//Event Calendar 2.0//EN
METHOD:PUBLISH
X-PUBLISHED-TTL:P3D
REFRESH-INTERVAL:P3D
CALSCALE:GREGORIAN
BEGIN:VEVENT
DTSTART:20230924T200000Z
DTEND:20230924T230000Z
X-MICROSOFT-CDO-ALLDAYEVENT:FALSE
SUMMARY:School of Thought Consciousness: Discussion on Age Reversal
DESCRIPTION:Barbara Cook-Ashby with The School of Thought Consciousness will be speaking at Wallingford Farm on Sunday\, September 24 from 4-7pm. \n\n\n\nJoin Barbara as she leads a discussion on Age Reversal and the way life should be. She will provide you with some tips and tricks for beneficial use.\n\n\n\nPlease RSVP by emailing schoolofthoughtconciousness@gmail.com or call (239) 777-4578.
X-ALT-DESC;FMTTYPE=text/html:<span style="font-size:16px"><strong>Barbara Cook-Ashby with The School of Thought Consciousness will be speaking at Wallingford Farm on Sunday\, September 24 from 4-7pm.&nbsp\;</strong><br />\n<br />\nJoin Barbara as she leads a discussion on Age Reversal and the way life should be. She will provide you with some tips and tricks for beneficial use.<br />\n<br />\nPlease RSVP by emailing schoolofthoughtconciousness@gmail.com or call (239) 777-4578.</span>
LOCATION:
UID:e.1923.22496
SEQUENCE:3
DTSTAMP:20260422T034052Z
URL:https://chamber.gokennebunks.com/events/details/school-of-thought-consciousness-discussion-on-age-reversal-22496
END:VEVENT

END:VCALENDAR
