BEGIN:VCALENDAR
VERSION:2.0
PRODID:-//ChamberMaster//Event Calendar 2.0//EN
METHOD:PUBLISH
X-PUBLISHED-TTL:P3D
REFRESH-INTERVAL:P3D
CALSCALE:GREGORIAN
BEGIN:VEVENT
DTSTART:20220707T003000Z
DTEND:20220707T023000Z
X-MICROSOFT-CDO-ALLDAYEVENT:FALSE
SUMMARY:School of Rock School of Rock
DESCRIPTION:Jack Black strikes all the right chords as a teacher who turns his private-school pupils into a classic-rock band. Refreshing\, screwball comedy never takes itself too seriously. Written by Mike White\, who costars as Black's buddy.
X-ALT-DESC;FMTTYPE=text/html:<span style="color:rgb(0\, 0\, 0)\; font-family:calibri\,calibri_embeddedfont\,calibri_msfontservice\,sans-serif\; font-size:11pt">Jack Black strikes all the right chords as a teacher who turns his private-school pupils into a classic-rock band. Refreshing\, screwball comedy never takes itself too seriously. Written by Mike White\, who costars as Black&#39\;s buddy.</span><span style="color:rgb(0\, 0\, 0)\; font-family:calibri\,calibri_embeddedfont\,calibri_msfontservice\,sans-serif\; font-size:11pt">&nbsp\;</span>
LOCATION:Vinegar Hill Music Theatre 53 Old Post Road Arundel\, Maine 04046 Tel: 207-985-5552
UID:e.1923.17363
SEQUENCE:3
DTSTAMP:20260419T175939Z
URL:https://chamber.gokennebunks.com/events/details/school-of-rock-school-of-rock-17363
END:VEVENT

END:VCALENDAR
