BEGIN:VCALENDAR
VERSION:2.0
PRODID:-//ChamberMaster//Event Calendar 2.0//EN
METHOD:PUBLISH
X-PUBLISHED-TTL:P3D
REFRESH-INTERVAL:P3D
CALSCALE:GREGORIAN
BEGIN:VEVENT
DTSTART:20250215T220000Z
DTEND:20250215T230000Z
X-MICROSOFT-CDO-ALLDAYEVENT:FALSE
SUMMARY:School Around Us Family & Friends Program Showcase at Mill Studio Arts
DESCRIPTION:School Around Us is excited to announce a Family & Friends program showcase at Mill Studio Arts in Biddeford to share the unique STEAM learning experience of our students. This partnership\, designed by Mill Studio Arts teacher & founder\, Amy Goodness\,  integrates science and math with the arts highlighting the importance of each of these disciplines through hands-on activities that cover topics such as:\n\n- S (Science) Earth Science\, Space\, fossils\n\n- T (Technology) GPS\, satellites\, mapping\, coding\n\n- E (Engineering) Lego Robotics\, design\, mapping\, building pro\, innovating\n\n- A (Arts) Design in clay\, paint & other art forms\,\, concept design\, creation\, building models\, creating visual representations\, printmaking\n\n- M (Math) concepts: place value\, money\, problem-solving\, symmetry\, geometry\, large numbers\, time\n\n \nThe middle spiral (ages 9-11) has worked on making data visible through graphing. They have worked collaboratively to develop group graphs and then independently to create pie charts that explain time. They are exploring the geologic time scale of Earth\, creating visuals that help us fathom just how vast documented time is. They converted percentages into decimals to utilize protractors to draw pie charts of each segment of time and share findings. They went back in time to investigate and create fossil artifacts. They printed and cast animal and plant objects exploring the difference between fossil tracks and body casts. \n\n\n \nThe older spiral (ages 11-13) has focused on mapping and is using LEGO robotics to utilize sensors to observe color and distance and create communication output with light. They will be using this practice to create model satellites in our unit exploring navigation and mapping! They time traveled to the future\, imagining and creating mapping machines for uncharted territory. Using LEGO robotics\, the kids designed and built prototypes of unmanned sensing bots that can take in physical information and communicate that info back to humans for mapping. They are taking this knowledge forward as they better understand satellites and how they map and communicate to provide us with GPS.\n\n\nThis incredible initiative is funded by a grant from Onsemi Corporation\, which is dedicated to driving innovations in automotive and industrial markets\, focusing on megatrends like vehicle electrification and sustainable energy.
X-ALT-DESC;FMTTYPE=text/html:<p><span style="font-family:arial\,helvetica\,sans-serif"><span style="font-size:12px"><span style="color:rgb(0\, 0\, 0)"><strong>School Around Us</strong><span style="background-color:transparent"> is excited to announce a Family &amp\; Friends program showcase at&nbsp\;</span><strong>Mill Studio Arts</strong><span style="background-color:transparent"> in Biddeford to share the unique STEAM learning experience of our students. This partnership\, designed by Mill Studio Arts teacher &amp\; founder\, Amy Goodness\,&nbsp\; integrates science and math with the arts highlighting the importance of each of these disciplines through hands-on activities that cover topics such as:</span></span></span></span></p>\n\n<p><span style="font-family:arial\,helvetica\,sans-serif"><span style="font-size:12px"><span style="color:rgb(0\, 0\, 0)"><span style="background-color:transparent">-</span><strong> S</strong><span style="background-color:transparent"> (Science) Earth Science\, Space\, fossils</span></span></span></span></p>\n\n<p><span style="font-family:arial\,helvetica\,sans-serif"><span style="font-size:12px"><span style="color:rgb(0\, 0\, 0)"><span style="background-color:transparent">- </span><strong>T</strong><span style="background-color:transparent"> (Technology) GPS\, satellites\, mapping\, coding</span></span></span></span></p>\n\n<p><span style="font-family:arial\,helvetica\,sans-serif"><span style="font-size:12px"><span style="color:rgb(0\, 0\, 0)"><span style="background-color:transparent">- </span><strong>E</strong><span style="background-color:transparent"> (Engineering) Lego Robotics\, design\, mapping\, building pro\, innovating</span></span></span></span></p>\n\n<p><span style="font-family:arial\,helvetica\,sans-serif"><span style="font-size:12px"><span style="color:rgb(0\, 0\, 0)"><span style="background-color:transparent">- </span><strong>A</strong><span style="background-color:transparent"> (Arts) Design in clay\, paint &amp\; other art forms\,\, concept design\, creation\, building models\, creating visual representations\, printmaking</span></span></span></span></p>\n\n<p><span style="font-family:arial\,helvetica\,sans-serif"><span style="font-size:12px"><span style="color:rgb(0\, 0\, 0)"><span style="background-color:transparent">- </span><strong>M</strong><span style="background-color:transparent"> (Math) concepts: place value\, money\, problem-solving\, symmetry\, geometry\, large numbers\, time</span></span></span></span></p>\n\n<div>&nbsp\;\n<div><span style="font-family:arial\,helvetica\,sans-serif"><span style="font-size:12px">The middle spiral (ages 9-11) has worked on making data visible through graphing. They have worked collaboratively to develop group graphs and then independently to create pie charts that explain time. They are exploring the geologic time scale of Earth\, creating visuals that help us fathom just how vast documented time is. They converted percentages into decimals to utilize protractors to draw pie charts of each segment of time and share findings. They went back in time to investigate and create fossil artifacts. They printed and cast animal and plant objects exploring the difference between fossil tracks and body casts.&nbsp\;</span></span></div>\n</div>\n\n<div>&nbsp\;\n<div><span style="font-family:arial\,helvetica\,sans-serif"><span style="font-size:12px">The older spiral (ages 11-13) has focused on mapping and is using LEGO robotics to utilize sensors to observe color and distance and create communication output with light. They will be using this practice to create model satellites in our unit exploring navigation and mapping! They time traveled to the future\, imagining and creating mapping machines for uncharted territory. Using LEGO robotics\, the kids designed and built prototypes of unmanned sensing bots that can take in physical information and communicate that info back to humans for mapping. They are taking this knowledge forward as they better understand satellites and how they map and communicate to provide us with GPS.</span></span></div>\n</div>\n\n<p><span style="font-family:arial\,helvetica\,sans-serif"><span style="font-size:12px"><span style="color:rgb(0\, 0\, 0)"><span style="background-color:transparent">This incredible initiative is funded by a grant from <em><strong>Onsemi Corporation\,</strong></em> which is dedicated to driving innovations in automotive and industrial markets\, focusing on megatrends like vehicle electrification and sustainable energy.</span></span></span></span></p>\n
LOCATION:Mill Studio Arts Pearl Street Biddeford\, Maine
UID:e.1923.33108
SEQUENCE:3
DTSTAMP:20260420T230437Z
URL:https://chamber.gokennebunks.com/events/details/school-around-us-family-friends-program-showcase-at-mill-studio-arts-33108
END:VEVENT

END:VCALENDAR
