BEGIN:VCALENDAR
VERSION:2.0
PRODID:-//ChamberMaster//Event Calendar 2.0//EN
METHOD:PUBLISH
X-PUBLISHED-TTL:P3D
REFRESH-INTERVAL:P3D
CALSCALE:GREGORIAN
BEGIN:VEVENT
DTSTART:20190831T000000Z
DTEND:20190831T020000Z
X-MICROSOFT-CDO-ALLDAYEVENT:FALSE
SUMMARY:Scarab - The Journey Experience
DESCRIPTION:"SCARAB The Journey Experience"\, is the closest re-creation you will see to THE supergroup of the 70's and 80's. An absolutely dynamic stage show with four part harmonies live that other bands could only dream of doing. The Internationally touring tribute act performs a 2+ hr concert with all the sights\, sounds and of course songs that made Journey famous the World over. Come see "SCARAB.." and "Experience" what Hundreds of Thousands of fans all over the Country are raving about. "SCARAB The Journey Experience" hit the stage in April of 2010 and haven't stopped yet. 36 states later "SCARAB " is arguably the biggest touring Journey tribute in the Country. Members Sean Volpetti   vocals\, Scott Philie   keyboards\, Jean "Boomer" Grenier   drums\, Rob Nemetz   bass and Brett Parker   guitars have "Captured" 40 years of classic hits from "Any way you want it" to Who's crying now" and everything in between.
X-ALT-DESC;FMTTYPE=text/html:&ldquo\;SCARAB&hellip\;The Journey Experience&rdquo\;\, is the closest re-creation you will see to THE supergroup of the 70&rsquo\;s and 80&rsquo\;s. An absolutely dynamic stage show with four part harmonies live that other bands could only dream of doing. The Internationally touring tribute act performs a 2+ hr concert with all the sights\, sounds and of course songs that made Journey famous the World over. Come see &ldquo\;SCARAB..&rdquo\; and &ldquo\;Experience&rdquo\; what Hundreds of Thousands of fans all over the Country are raving about. &ldquo\;SCARAB&hellip\;The Journey Experience&rdquo\; hit the stage in April of 2010 and haven&rsquo\;t stopped yet. 36 states later &ldquo\;SCARAB&hellip\;&rdquo\; is arguably the biggest touring Journey tribute in the Country. Members Sean Volpetti &ndash\; vocals\, Scott Philie &ndash\; keyboards\, Jean &ldquo\;Boomer&rdquo\; Grenier &ndash\; drums\, Rob Nemetz &ndash\; bass and Brett Parker &ndash\; guitars have &ldquo\;Captured&rdquo\; 40 years of classic hits from &ldquo\;Any way you want it&rdquo\; to Who&rsquo\;s crying now&rdquo\; and everything in between.
LOCATION:Vinegar Hill Music Theatre 53 Old Post Rd. Arundel\, ME 04046
UID:e.1923.13060
SEQUENCE:3
DTSTAMP:20260424T165521Z
URL:https://chamber.gokennebunks.com/events/details/scarab-the-journey-experience-13060
END:VEVENT

END:VCALENDAR
