BEGIN:VCALENDAR
VERSION:2.0
PRODID:-//ChamberMaster//Event Calendar 2.0//EN
METHOD:PUBLISH
X-PUBLISHED-TTL:P3D
REFRESH-INTERVAL:P3D
CALSCALE:GREGORIAN
BEGIN:VEVENT
DTSTART:20230722T150000Z
DTEND:20230722T180000Z
X-MICROSOFT-CDO-ALLDAYEVENT:FALSE
SUMMARY:Saturday DJ Brunch
DESCRIPTION:We'll be welcoming DJ's from Hot Radio Maine to get the weekend started all summer long!\n\nSaturdays in June\, 11 AM - 2 PM\n\nPart of Via Sophia by the Sea's programming for their One-Year Anniversary\, happening all month long during June!\n\n5/27 - DJ Haylstorm \n\n6/3 - Ryan Deelon \n\n6/10 - DJ B Aull\n\n6/17 - DJ Haylstorm 6\n\n/24 - DJ B Aull \n\n7/1 - DJ Haylstorm \n\n7/8 - Ryan Deelon \n\n7/15 - DJ B Aull \n\n7/22 - DJ Haylstorm \n\n7/29 - Ryan Deelon \n\n8/5 - DJ B Aull \n\n8/12 - DJ Haylstorm \n\n8/19 - Ryan Deelon \n\n8/26 - DJ B Aull \n\n9/2 - DJ Haylstorm
X-ALT-DESC;FMTTYPE=text/html:<p>We&rsquo\;ll be welcoming DJ&rsquo\;s from Hot Radio Maine to get the weekend started all summer long!</p>\n\n<p>Saturdays in June\, 11 AM - 2 PM</p>\n\n<p>Part of Via Sophia by the Sea&#39\;s programming for their One-Year Anniversary\, happening all month long during June!</p>\n\n<p>5/27 - DJ Haylstorm&nbsp\;</p>\n\n<p>6/3 - Ryan Deelon&nbsp\;</p>\n\n<p>6/10 - DJ B Aull</p>\n\n<p>6/17 - DJ Haylstorm 6</p>\n\n<p>/24 - DJ B Aull&nbsp\;</p>\n\n<p>7/1 - DJ Haylstorm&nbsp\;</p>\n\n<p>7/8 - Ryan Deelon&nbsp\;</p>\n\n<p>7/15 - DJ B Aull&nbsp\;</p>\n\n<p>7/22 - DJ Haylstorm&nbsp\;</p>\n\n<p>7/29 - Ryan Deelon&nbsp\;</p>\n\n<p>8/5 - DJ B Aull&nbsp\;</p>\n\n<p>8/12 - DJ Haylstorm&nbsp\;</p>\n\n<p>8/19 - Ryan Deelon&nbsp\;</p>\n\n<p>8/26 - DJ B Aull&nbsp\;</p>\n\n<p>9/2 - DJ Haylstorm</p>\n
LOCATION:Via Sophia by the Sea 27 Western Ave Kennebunk\, ME 04043
UID:e.1923.19956
SEQUENCE:3
DTSTAMP:20260422T050232Z
URL:https://chamber.gokennebunks.com/events/details/saturday-dj-brunch-07-22-2023-19956
END:VEVENT

END:VCALENDAR
