BEGIN:VCALENDAR
VERSION:2.0
PRODID:-//ChamberMaster//Event Calendar 2.0//EN
METHOD:PUBLISH
X-PUBLISHED-TTL:P3D
REFRESH-INTERVAL:P3D
CALSCALE:GREGORIAN
BEGIN:VEVENT
DTSTART:20231209T170000Z
DTEND:20231209T210000Z
X-MICROSOFT-CDO-ALLDAYEVENT:FALSE
SUMMARY:Santa at the ReStore
DESCRIPTION:Come visit Santa at the Kennebunk ReStore on Saturday\, 12/9 from 12 to 4! Bring your Christmas list\, and a camera for some great pictures!!
X-ALT-DESC;FMTTYPE=text/html:Come visit Santa at the Kennebunk ReStore on Saturday\, 12/9 from 12 to 4! Bring your Christmas list\, and a camera for some great pictures!!
LOCATION:Kennebunk ReStore\, 123 York Street
UID:e.1923.23277
SEQUENCE:3
DTSTAMP:20260421T220806Z
URL:https://chamber.gokennebunks.com/events/details/santa-at-the-restore-23277
END:VEVENT

END:VCALENDAR
