BEGIN:VCALENDAR
VERSION:2.0
PRODID:-//ChamberMaster//Event Calendar 2.0//EN
METHOD:PUBLISH
X-PUBLISHED-TTL:P3D
REFRESH-INTERVAL:P3D
CALSCALE:GREGORIAN
BEGIN:VEVENT
DTSTART:20250222T180000Z
DTEND:20250222T193000Z
X-MICROSOFT-CDO-ALLDAYEVENT:FALSE
SUMMARY:Sake + Orange Wine Tasting Class at Rosella
DESCRIPTION:Saturday\, February 22\, 2025   1pm EST\nExplore the delicate harmony of tradition and innovation as you embark on a journey through the nuanced flavors of sake and orange wine in this immersive tasting class at Rosella.\n\nDiscover the history\, culture\, and more of traditional sake\, orange wine\, and p t-nat with 5 tastings throughout the class. You'll enjoy light bites alongside your tastings\, including miso soup and pickles.\n\n\n\n\nPart of Rosella's programming for February's Paint the Town Red in Kennebunkport!\n\n\n\nPURCHASE TICKETS: https://www.eventbrite.com/e/sake-orange-wine-tasting-class-tickets-1123226674219?aff=oddtdtcreator
X-ALT-DESC;FMTTYPE=text/html:<span style="color:rgb(30\, 10\, 60)\; font-family:neue plak\,-apple-system\,blinkmacsystemfont\,roboto\,helvetica neue\,helvetica\,tahoma\,arial\,sans-serif\; font-size:14px">Saturday\, February 22\, 2025 &middot\; 1pm EST</span>\n<p>Explore the delicate harmony of tradition and innovation as you embark on a journey through the nuanced flavors of sake and orange wine in this immersive tasting class at Rosella.</p>\n\n<p>Discover the history\, culture\, and more of traditional sake\, orange wine\, and p&eacute\;t-nat with 5 tastings throughout the class. You&#39\;ll enjoy light bites alongside your tastings\, including miso soup and pickles.</p>\n\n<ul>\n</ul>\n\n<p>Part of Rosella&#39\;s programming for February&#39\;s&nbsp\;<a href="https://www.kennebunkportresortcollection.com/explore/paint-the-town-red" rel="nofollow noopener noreferrer" style="background-color: transparent\; color: var(--eds-control\,#3659e3)\; box-sizing: border-box\; padding-top: 0px\;" target="_blank" title="https://www.kennebunkportresortcollection.com/explore/paint-the-town-red">Paint the Town Red in Kennebunkport</a>!<br />\n<br />\n<a href="https://www.eventbrite.com/e/farthest-star-sake-at-rosella-tickets-1123227657159?aff=oddtdtcreator">PURCHASE TICKETS:&nbsp\;</a><a href="https://www.eventbrite.com/e/sake-orange-wine-tasting-class-tickets-1123226674219?aff=oddtdtcreator">https://www.eventbrite.com/e/sake-orange-wine-tasting-class-tickets-1123226674219?aff=oddtdtcreator</a></p>\n
LOCATION:Rosella KPT 1 Chase Hill Road Kennebunk\, Maine 04043
UID:e.1923.31463
SEQUENCE:3
DTSTAMP:20260420T230216Z
URL:https://chamber.gokennebunks.com/events/details/sake-orange-wine-tasting-class-at-rosella-31463
END:VEVENT

END:VCALENDAR
