BEGIN:VCALENDAR
VERSION:2.0
PRODID:-//ChamberMaster//Event Calendar 2.0//EN
METHOD:PUBLISH
X-PUBLISHED-TTL:P3D
REFRESH-INTERVAL:P3D
CALSCALE:GREGORIAN
BEGIN:VEVENT
DTSTART:20180616T130000Z
DTEND:20180616T160000Z
X-MICROSOFT-CDO-ALLDAYEVENT:FALSE
SUMMARY:Sailors and Sirens 5K
DESCRIPTION:This 5K (3.1 mile) costumed race will start and end on the grounds of the Pilot House and Boatyard in Kennebunk\, Maine. Wind though the back of the Franciscan Monastery and down Beach Avenue to the waterfront and run in the sand toward character photo stops. \n\nParticipants are encouraged to dress like their favorite mermaid\, sailor\, pirate or sea creature. Best Costumed runner will win a special prize.\n\nThe character stops along the course are for fun photos ops. Just imagine yourself in your running gear\, pictured with a group of lovely sirens!
X-ALT-DESC;FMTTYPE=text/html:<p>This 5K&nbsp\;(3.1 mile) costumed race will start and end on the grounds of the Pilot House and Boatyard in Kennebunk\, Maine. Wind though the back of the Franciscan Monastery and down Beach Avenue to the waterfront and run in the sand toward character photo stops.&nbsp\;</p>\n\n<p>Participants are encouraged to dress like their favorite mermaid\, sailor\, pirate or sea creature. Best Costumed runner will win a special prize.</p>\n\n<p>The character&nbsp\;stops along the course are for fun photos ops. Just imagine yourself in your running gear\, pictured with a group of lovely sirens!&nbsp\;</p>\n
LOCATION:The Pilot House 4 Western Ave Kennebunk\, ME 04043
UID:e.1923.9844
SEQUENCE:3
DTSTAMP:20260425T143313Z
URL:https://chamber.gokennebunks.com/events/details/sailors-and-sirens-5k-9844
END:VEVENT

END:VCALENDAR
