BEGIN:VCALENDAR
VERSION:2.0
PRODID:-//ChamberMaster//Event Calendar 2.0//EN
METHOD:PUBLISH
X-PUBLISHED-TTL:P3D
REFRESH-INTERVAL:P3D
CALSCALE:GREGORIAN
BEGIN:VEVENT
DTSTART:20180623T000000Z
DTEND:20180623T020000Z
X-MICROSOFT-CDO-ALLDAYEVENT:FALSE
SUMMARY:Rustic Overtones w/ MYRO
DESCRIPTION:The current touring line-up is Dave Gutter (vocals and guitar)\, Jon Roods (bass)\, Dave Noyes (trombone\, synth)\, Jason Ward (baritone sax\, flute)\, Gary Gemmiti (drums)\, Michael Taylor (keys\,percussion\,vocals) and Kyle Hardy (tenor and alto sax). The band is best known for their energetic live shows and perceptual songwriting.
X-ALT-DESC;FMTTYPE=text/html:The current touring line-up is Dave Gutter (vocals and guitar)\, Jon Roods (bass)\, Dave Noyes (trombone\, synth)\, Jason Ward (baritone sax\, flute)\, Gary Gemmiti (drums)\, Michael Taylor (keys\,percussion\,vocals) and Kyle Hardy (tenor and alto sax). The band is best known for their energetic live shows and perceptual songwriting.
LOCATION:Vinegar Hill Music Theatre 53 Old Post Rd. Arundel\, ME 04046
UID:e.1923.7160
SEQUENCE:3
DTSTAMP:20260425T143124Z
URL:https://chamber.gokennebunks.com/events/details/rustic-overtones-w-myro-7160
END:VEVENT

END:VCALENDAR
