BEGIN:VCALENDAR
VERSION:2.0
PRODID:-//ChamberMaster//Event Calendar 2.0//EN
METHOD:PUBLISH
X-PUBLISHED-TTL:P3D
REFRESH-INTERVAL:P3D
CALSCALE:GREGORIAN
BEGIN:VEVENT
DTSTART:20190630T000000Z
DTEND:20190630T023000Z
X-MICROSOFT-CDO-ALLDAYEVENT:FALSE
SUMMARY:Rustic Overtones
DESCRIPTION:Rustic Overtones are a seven-piece rock band from Portland Maine with a discography that spans 20 years. The bands unique version of indie rock is strongly influenced by soul music\, garage punk\, jazz and psychedelic music of the 60's and 70's. "A unique sound steeped in both Earth\, Wind and Fire-style funk and late-era Beatles psychedelia." -Rolling Stone "Rustic's firepower-a skintight rhythm section\, soulful keyboards\, stinging guitars\, funky horns and the potent\, complex\, and totally engrossing voice of front-man Dave Gutter" - Billboard Magazine The Rustic Overtones have collaborated and recorded with David Bowie\, Imogen Heap\, Ray Lamontagne\, Eric Krasno\, Funkmaster Flex and Naughty by Nature\, as songwriters\, multi-instrumentalists\, arrangers\, and composers and have toured nationally as direct support for De La Soul\, Steel Pulse\, and Run DMC among others..
X-ALT-DESC;FMTTYPE=text/html:Rustic Overtones are a seven-piece rock band from Portland Maine with a discography that spans 20 years. The bands unique version of indie rock is strongly influenced by soul music\, garage punk\, jazz and psychedelic music of the 60&#39\;s and 70&#39\;s. &ldquo\;A unique sound steeped in both Earth\, Wind and Fire-style funk and late-era Beatles psychedelia.&quot\; -Rolling Stone &quot\;Rustic&#39\;s firepower-a skintight rhythm section\, soulful keyboards\, stinging guitars\, funky horns and the potent\, complex\, and totally engrossing voice of front-man Dave Gutter&quot\; - Billboard Magazine The Rustic Overtones have collaborated and recorded with David Bowie\, Imogen Heap\, Ray Lamontagne\, Eric Krasno\, Funkmaster Flex and Naughty by Nature\, as songwriters\, multi-instrumentalists\, arrangers\, and composers and have toured nationally as direct support for De La Soul\, Steel Pulse\, and Run DMC among others..
LOCATION:Vinegar Hill Music Theatre 53 Old Post Rd Arundel\, ME 04046
UID:e.1923.11542
SEQUENCE:3
DTSTAMP:20260424T194240Z
URL:https://chamber.gokennebunks.com/events/details/rustic-overtones-11542
END:VEVENT

END:VCALENDAR
