BEGIN:VCALENDAR
VERSION:2.0
PRODID:-//ChamberMaster//Event Calendar 2.0//EN
METHOD:PUBLISH
X-PUBLISHED-TTL:P3D
REFRESH-INTERVAL:P3D
CALSCALE:GREGORIAN
BEGIN:VEVENT
DTSTART:20240601T130000Z
DTEND:20240601T160000Z
X-MICROSOFT-CDO-ALLDAYEVENT:FALSE
SUMMARY:RSU 21 Transportation Job Fair
DESCRIPTION:Swing by our transportation job fair to meet current drivers\, enjoy free beverages and snacks\, and apply on the spot! RSU 21 has an immediate need for bus drivers\, bus aides\, and mechanics. Starting pay for bus drivers is $24.97/hour\, $33.54 for mechanics. No CDL is needed to apply\, RSU will cover all of your training costs and provide on-site CDL training.
X-ALT-DESC;FMTTYPE=text/html:Swing by our transportation job fair to meet current drivers\, enjoy free beverages and snacks\, and apply on the spot! RSU 21 has an immediate need for bus drivers\, bus aides\, and mechanics. Starting pay for bus drivers is $24.97/hour\, $33.54 for mechanics. No CDL is needed to apply\, RSU will cover all of your training costs and provide on-site CDL training.
LOCATION:116 York Street\, Kennebunk
UID:e.1923.25298
SEQUENCE:3
DTSTAMP:20260421T140229Z
URL:https://chamber.gokennebunks.com/events/details/rsu-21-transportation-job-fair-25298
END:VEVENT

END:VCALENDAR
