BEGIN:VCALENDAR
VERSION:2.0
PRODID:-//ChamberMaster//Event Calendar 2.0//EN
METHOD:PUBLISH
X-PUBLISHED-TTL:P3D
REFRESH-INTERVAL:P3D
CALSCALE:GREGORIAN
BEGIN:VEVENT
DTSTART:20260411T173000Z
DTEND:20260411T190000Z
X-MICROSOFT-CDO-ALLDAYEVENT:FALSE
SUMMARY:Rosé Tasting at Ocean
DESCRIPTION:Guests will enjoy a guided tasting experience complemented by thoughtfully curated light bites designed to pair perfectly with each wine. Whether you're welcoming warmer days with a partner\, gathering with friends\, or simply treating yourself to a night out\, this spring-inspired ros  soir e offers a breezy blend of flavor\, connection\, and seasonal charm. Tickets include: ?? Three (3) ros  wine tastings ?? Spring-inspired light bites & snacks ?? Take-home recipe cards __ Class is open to adults 21 years of age or older. Proper ID is required at door. We look forward to seeing you.
X-ALT-DESC;FMTTYPE=text/html:Guests will enjoy a guided tasting experience complemented by thoughtfully curated light bites designed to pair perfectly with each wine. Whether you&rsquo\;re welcoming warmer days with a partner\, gathering with friends\, or simply treating yourself to a night out\, this spring-inspired ros&eacute\; soir&eacute\;e offers a breezy blend of flavor\, connection\, and seasonal charm. Tickets include: ?? Three (3) ros&eacute\; wine tastings ?? Spring-inspired light bites &amp\; snacks ?? Take-home recipe cards __ Class is open to adults 21 years of age or older. Proper ID is required at door. We look forward to seeing you.
LOCATION:Ocean Restaurant\, Cape Arundel Inn & Resort 208 Ocean Avenue Kennebunkport\, ME 04046
UID:e.1923.38957
SEQUENCE:3
DTSTAMP:20260421T220715Z
URL:https://chamber.gokennebunks.com/events/details/ros&#233;-tasting-at-ocean-38957
END:VEVENT

END:VCALENDAR
