BEGIN:VCALENDAR
VERSION:2.0
PRODID:-//ChamberMaster//Event Calendar 2.0//EN
METHOD:PUBLISH
X-PUBLISHED-TTL:P3D
REFRESH-INTERVAL:P3D
CALSCALE:GREGORIAN
BEGIN:VEVENT
DTSTART:20240609T000000Z
DTEND:20240609T023000Z
X-MICROSOFT-CDO-ALLDAYEVENT:FALSE
SUMMARY:Rose Alley - Jerry Garcia Band Tribute
DESCRIPTION:Vinegar Hill Music Theatre presents Rose Alley   A Tribute to Jerry Garcia Band\n\nDoors 6pm | Show 8pm\n\nAll Ages\n\n \n\nJoin us for food and drinks before the show in our outdoor garden starting at 6pm!\n\nThe night's food truck is Terra Firma! Serving farm-to-table fare including smash burgers burgers\, kabobs\, and more!\n\n \n\nRose Alley celebrates the music of Jerry Garcia\, JGB and beyond. Made up of Maine music scene veterans Kevin Roper\, Aaron Nadeau\, Neil Carroll and Drew Wyman\, Rose Alley toes the line of Garcia Band authenticity while adding plenty of their own flair from their combined experiences. Three-part harmonies and electrifying jams add to the sonic pleasure of a Rose Alley concert!
X-ALT-DESC;FMTTYPE=text/html:<h5>Vinegar Hill Music Theatre presents Rose Alley &ndash\; A Tribute to Jerry Garcia Band</h5>\n\n<h5>Doors 6pm | Show 8pm</h5>\n\n<h5>All Ages</h5>\n\n<p>&nbsp\;</p>\n\n<p>Join us for food and drinks before the show in our outdoor garden starting at&nbsp\;6pm!</p>\n\n<p>The night&rsquo\;s food truck is&nbsp\;<a href="https://www.instagram.com/terrafirmafoodtruck/" rel="noopener noreferrer" style="box-sizing: border-box\; color: rgb(251\, 74\, 40)\; text-decoration-line: none\; background-color: transparent\; box-shadow: none\;" target="_blank">Terra Firma!</a>&nbsp\;Serving farm-to-table fare including smash burgers burgers\, kabobs\, and more!</p>\n\n<p>&nbsp\;</p>\n\n<p><a href="https://www.facebook.com/RoseAlleyJGB/" rel="noopener noreferrer" style="box-sizing: border-box\; color: rgb(251\, 74\, 40)\; text-decoration-line: none\; background-color: transparent\; box-shadow: none\;" target="_blank">Rose Alley</a>&nbsp\;celebrates the music of Jerry Garcia\, JGB and beyond. Made up of Maine music scene veterans Kevin Roper\, Aaron Nadeau\, Neil Carroll and Drew Wyman\, Rose Alley toes the line of Garcia Band authenticity while adding plenty of their own flair from their combined experiences. Three-part harmonies and electrifying jams add to the sonic pleasure of a Rose Alley concert!</p>\n
LOCATION:Vinegar Hill Music Theatre 53 Old Post Rd. Arundel\, ME 04046
UID:e.1923.25329
SEQUENCE:3
DTSTAMP:20260421T140357Z
URL:https://chamber.gokennebunks.com/events/details/rose-alley-jerry-garcia-band-tribute-25329
END:VEVENT

END:VCALENDAR
